{"text_format":"3","workbook":"xlsx","n_sheets":14,"sheets":["Início","Instruções","Despesas Totais","Percentuais","Preços e Custos","Cálculo PE","Cálculo PE Específico","Turbinando","Simulação de Foco","Comparação","Próximo Passo","Plan1","Plan2","Plan3"],"not_rendered":{"charts":11,"images":13,"defined_names":158,"comments":8},"read":"whole","date_system":"1900"}

{"sheet":"Início","index":0,"n_rows":17,"n_cols":5,"rows_kept":17,"merged":[[13,4,13,9]]}
{"$rows_empty":10}
[null,null,"Tutorial da planilha aqui"]
[]
[null,null,"Atenção: Esta é uma versão de gratuita! Algumas funções não estarão disponíveis."]
[null,null,"Para a versão completa da ferramenta, clique aqui",null,"Clique nos botões acima para verificar a planilha"]
[]
[{"$nulls":4},"Esta planilha está toda protegida por fórmulas para que seu bom funcionamento seja garantido."]
[{"$nulls":4},"Assim poderemos lhe dar suporte em caso de problemas."]

{"sheet":"Instruções","index":1,"n_rows":131,"n_cols":14,"rows_kept":131,"hidden":true}
[]
[null,"4 passos ESSENCIAIS para configurar e utilizar o Sistema do Ponto de Equilíbrio"]
[null,"Este mini manual é muito simples e visual, perca 5 minutos aqui e ganhe anos de vida da sua empresa",{"$nulls":11},"Passos:"]
{"$rows_empty":8}
[{"$nulls":8},"Você pode preencher suas contas e valores de acordo "]
[{"$nulls":8},"com a necessidade da sua empresa."]
[]
[{"$nulls":8},"Ao lado um exemplo de uma empresa "]
[{"$nulls":8},"qualquer: foi utilizado outras nomenclaturas "]
[{"$nulls":8},"para as contas destacadas, também pode-se"]
[{"$nulls":8},"adicionar contas nos espaços vazios. "]
[{"$nulls":8},"Logo depois foram adicionados os valores"]
[{"$nulls":8},"das despesas de cada conta"]
[]
[{"$nulls":8},"A mesma situação acontece para os os outros"]
[{"$nulls":8},"tipos de despesas e também na parte dos "]
[{"$nulls":8},"Investimentos!"]
[]
[]
[{"$nulls":8},"ATENÇÃO: NUNCA exclua ou insira linhas,"]
[{"$nulls":8},"senão algumas fórmulas serão perdidas"]
{"$rows_empty":11}
[{"$nulls":8},"Neste exemplo, pode-se perceber que foi cadastrado"]
[{"$nulls":8},"quais são alguns dos produtos da empresa"]
[]
[{"$nulls":8},"Logo depois, foram adicionados os valores totais"]
[{"$nulls":8},"de venda dos produtos"]
[]
[{"$nulls":8},"E por último, os valores dos custos variáveis "]
[{"$nulls":8},"com cada produto (ou seja, os gastos relacionados"]
[{"$nulls":8},"somente com aquele produto em específico)"]
[]
[{"$nulls":8},"Nota-se que é possível mudar o nome da conta"]
[{"$nulls":8},"e também deixar espaços em brancos"]
[]
[{"$nulls":8},"Isso deve ser feito COM TODOS os "]
[{"$nulls":8},"Produtos/Serviços da sua empresa"]
{"$rows_empty":10}
[null,"Exemplo utilizando o Faturamento Total Médio (ou esperado)"]
[]
[{"$nulls":8},"Ainda utilizando os produtos do exemplo anterior e"]
[{"$nulls":8},"após o cadastro dos produtos e valores dos custos:"]
[]
[{"$nulls":8},"Deve-se preencher qual é o Faturamento Total"]
[{"$nulls":8},"Médio (ou esperado) com aquele produto"]
[{"$nulls":8}," em específico no mês"]
[]
[{"$nulls":8},"Neste caso o faturamento médio ou esperado"]
[{"$nulls":8},"das câmeras é R$ 10.000,00 e dos tablets é "]
[{"$nulls":8},"R$ 20.000,00."]
[]
[{"$nulls":8},"O objetivo desta etapa é identificar os produtos"]
[{"$nulls":8},"ou serviços mais representativos dentro de sua venda."]
[{"$nulls":8},"No KA-dicas enviado você tem mais informações."]
[]
[null,"Exemplo utilizando o Percentual que cada produto representa no faturamento"]
[]
[null,"Para completar as infomações deste modo é necessário fazer uma simples alteração na "]
[null,"formatação das células. Então selecione, todas as células referentes ao faturamento:",{"$nulls":9},"Depois clique em % (porcentagem) "]
{"$rows_empty":12}
[{"$nulls":8},"Depois disso, preenchemos da mesma forma:"]
[]
[{"$nulls":8},"Colocando o percentual (%) de quanto o produto"]
[{"$nulls":8},"representa do faturamento total do mês"]
[]
[{"$nulls":8},"Lembrando que fazendo de uma forma ou de "]
[{"$nulls":8},"outra, não interefere no cálculo final"]
[]
[{"$nulls":8},"IMPORTANTE: a soma final dos percentuais"]
[{"$nulls":8},"tem que ser, obrigatoriamente, 100%"]
{"$rows_empty":13}
[null,"Primeiro você preenche quais são suas contas ou "]
[null,"investimentos e os valores:"]
{"$rows_empty":7}
[null,"Para depois verificar o quanto precisa faturar a mais"]
[null,"para alcançar o ponto de equilíbrio"]

{"sheet":"Despesas Totais","index":2,"n_rows":82,"n_cols":6,"rows_kept":82,"merged":[[4,1,4,2],[60,1,60,2]]}
[]
[null,"Despesas Totais Mensais"]
[]
[{"$nulls":4},"Total Despesas e Investimentos (mês)"]
[null,"Despesas Fixas (mês)"]
[null,"Despesas Financeiras",{"$f":"SUM(C7:C12)","v":0},null,"Despesa Fixa Total (mês)",{"$f":"SUM(C6,C13,C28,C39,C45,C52)","v":0}]
[null,"Tarifas Bancárias",null,null,"Investimento Fixo Total (mês)",{"$f":"SUM(C62,C69,C75,C81)","v":0}]
[null,"Aluguel e tarifas Operadora Cartão"]
[null,"DOC/TED"]
[null,"Outros custos com despesas financeiras"]
[]
[]
[null,"Despesas Administrativas",{"$f":"SUM(C14:C27)","v":0}]
[null,"Telefone e Internet"]
[null,"Celular"]
[null,"Energia Elétrica"]
[null,"Aluguel e Condomínio"]
[null,"Água"]
[null,"IPTU"]
[null,"VTs / Gasolina / Estacionamento / Táxi"]
[null,"Almoço / Supermercado / Lanches"]
[null,"Correios"]
[null,"Cartórios"]
[null,"Outras despesas administrativas"]
[]
[]
[]
[null,"Despesas com Pessoal",{"$f":"SUM(C29:C38)","v":0}]
[null,"Salário de Funcionários"]
[null,"Bolsa de Estágio"]
[null,"VT e VR"]
[null,"Rescisão"]
[null,"FGTS"]
[null,"INSS - Federação - Sindicato"]
[null,"Pro-Labores"]
[null,"Plano de Saúde"]
[null,"Outras despesas com pessoal"]
[]
[null,"Despesas com Serviços de Terceiros",{"$f":"SUM(C40:C44)","v":0}]
[null,"Contador"]
[null,"TI"]
[null,"Advogado"]
[null,"Outras despesas com serviços de terceiros"]
[]
[null,"Despesas com Materiais e Equipamentos",{"$f":"SUM(C46:C51)","v":0}]
[null,"Manutenção Equipamentos Informática"]
[null,"Softwares"]
[null,"Materiais de Expediente/Manutenção/Limpeza"]
[null,"Manutenção Veículo"]
[null,"Outras despesas com materiais"]
[]
[null,"Outros",{"$f":"SUM(C53:C59)","v":0}]
{"$rows_empty":8}
[null,"Investimentos Fixos (mês)"]
[null,"Investimentos em Marketing",{"$f":"SUM(C63:C68)","v":0}]
[null,"Papelaria"]
[null,"Site / internet"]
[null,"Mídias/ Propaganda"]
[null,"Eventos"]
[null,"Assessoria de Marketing"]
[null,"Outros investimentos em marketing"]
[null,"Investimentos em Bens Materiais",{"$f":"SUM(C70:C74)","v":0}]
[null,"Compra de Equipamentos de Informárica"]
[null,"Reformas / Estrutura"]
[null,"Mobiliário"]
[null,"Outros investimentos em bens materiais"]
[]
[null,"Investimentos em Gestão Empresarial",{"$f":"SUM(C76:C80)","v":0}]
[null,"Consultoria"]
[null,"Treinamentos"]
[null,"Outros investimentos desenv. empresarial"]
[]
[]
[null,"Outros investimentos ",{"$f":"SUM(C82:C86)","v":0}]
[null,"Novas Soluções"]

{"sheet":"Percentuais","index":3,"n_rows":18,"n_cols":23,"rows_kept":18,"merged":[[1,18,1,24],[5,18,6,24],[6,1,6,2],[17,18,17,21]]}
[]
[null,"Percentuais sobre a Venda",{"$nulls":16},"CAPACIDADE PRODUTIVA"]
[]
[]
[]
[{"$nulls":18},"Nesta parte você vai calcular sua capacidade produtiva máxima. Atenção: horas produtivas são diferentes de horas de trabalho. O objetivo aqui é identificar quantas horas você consegue, efetivamente vender!"]
[null,"Percentuais sobre a Venda"]
[null,{"$f":"IF(B7=\"\",\"\",B7)","v":"Percentuais sobre a Venda"}]
[null,"Impostos sobre faturamento",{"$nulls":16},"Número de pessoas produtivas",2]
[null,"Comissões de venda",{"$nulls":16},"Horas diárias máximas produtivas (média por pessoa)",6,{"$f":"IF(T10>=8,\"Hey! Você acha que as pessoas realmente conseguem PRODUZIR mais que 8h por dia, consegue?!\",\"\")","v":""}]
[null,"% de cartão crédito / débito",{"$nulls":16},"Dias trabalhados no mês (média por pessoa)",20]
[null,"Outro % sobre venda"]
[{"$nulls":18},"% de produtividade",{"v":0.7,"d":"70%"},{"$f":"IF(T13<60%,\"Hey! Você não está sendo improdutivo demais não? Se você diminuir demais sua produtividade, o seu preço final vai aumentar!\",IF(T13>=95%,\"Hey! Como pode uma empresa ser tão produtiva assim? Você não está exagerando não?!\",\"\"))","v":""}]
[{"$nulls":18},"Horas reais de produtividade mensal por pessoa",{"$f":"T10*T11*T13","v":84}]
[null,"TOTAL",{"$f":"SUM(C9:C12)","v":{"v":0,"d":"0.0%"}}]
[]
[]
[{"$nulls":18},"Horas reais de produtividade mensal total:",{"$nulls":3},{"$f":"#REF!*T13","v":{"$error":"#REF!"}}]

{"sheet":"Preços e Custos","index":4,"n_rows":102,"n_cols":23,"rows_kept":102}
["Preços e Custos"]
[{"$nulls":9},{"$f":"SUMPRODUCT('Preços e Custos'!J4:J100,'Preços e Custos'!L4:L100)/SUM(L4:L100)","v":{"v":0,"d":"0.0%"}}]
["Cód. Prod / Serviço","Produto ou Serviço","Preço de Venda","Custo Variável Direto","Valor Percentuais sobre venda","%",null,null,"Margem de Contribuição","% Margem de Contribuição",null,"Proporção de faturamento",{"$f":"SUM(L4:L100)","v":{"v":1,"d":"100.0%"}},null,null,"Linha do serviço","Taxa de Marcação",null,null,"Impostos sobre faturamento","Comissões de venda","% de cartão crédito / débito","Outro % sobre venda"]
[{"$nulls":4},{"$f":"IF(C4=\"\",\"\",C4*F4)","v":""},{"$f":"IF(C4=\"\",\"\",Percentuais!$C$15)","v":""},null,null,{"$f":"IF(C4=\"\",\"\",C4-D4-E4)","v":""},{"$f":"IF(C4=\"\",\"\",I4/C4)","v":""},null,{"v":0.5,"d":"50.0%"},{"$nulls":3},{"$f":"IF(Percentuais!B8=\"\",\"\",Percentuais!B8)","v":"Percentuais sobre a Venda"},{"$f":"IF(P4=\"\",\"\",ROUNDUP(Percentuais!C15,3))","v":{"v":0,"d":"0.000"}},null,null,{"$f":"IF(#REF!=\"\",\"\",IF(#REF!=Percentuais!$B$7,Percentuais!$C$9,IF(#REF!=Percentuais!#REF!,Percentuais!#REF!,IF(#REF!=Percentuais!#REF!,Percentuais!#REF!,\"\"))))","v":{"$error":"#REF!"}},{"$f":"IF(#REF!=\"\",\"\",IF(#REF!=Percentuais!$B$7,Percentuais!$C$10,IF(#REF!=Percentuais!#REF!,Percentuais!#REF!,IF(#REF!=Percentuais!#REF!,Percentuais!#REF!,\"\"))))","v":{"$error":"#REF!"}},{"$f":"IF(#REF!=\"\",\"\",IF(#REF!=Percentuais!$B$7,Percentuais!$C$11,IF(#REF!=Percentuais!#REF!,Percentuais!#REF!,IF(#REF!=Percentuais!#REF!,Percentuais!#REF!,\"\"))))","v":{"$error":"#REF!"}},{"$f":"IF(#REF!=\"\",\"\",IF(#REF!=Percentuais!$B$7,Percentuais!$C$12,IF(#REF!=Percentuais!#REF!,Percentuais!#REF!,IF(#REF!=Percentuais!#REF!,Percentuais!#REF!,\"\"))))","v":{"$error":"#REF!"}}]
[{"$nulls":4},"",{"$f":"IF(C5=\"\",\"\",Percentuais!$C$15)","v":""},null,null,"","",null,{"v":0.5,"d":"50.0%"},{"$nulls":3},{"$f":"IF(Percentuais!#REF!=\"\",\"\",Percentuais!#REF!)","v":{"$error":"#REF!"}},{"$f":"IF(P5=\"\",\"\",ROUNDUP(Percentuais!#REF!,3))","v":{"$error":"#REF!"}},null,null,{"$f":"IF(#REF!=\"\",\"\",IF(#REF!=Percentuais!$B$7,Percentuais!$C$9,IF(#REF!=Percentuais!#REF!,Percentuais!#REF!,IF(#REF!=Percentuais!#REF!,Percentuais!#REF!,\"\"))))","v":{"$error":"#REF!"}},{"$f":"IF(#REF!=\"\",\"\",IF(#REF!=Percentuais!$B$7,Percentuais!$C$10,IF(#REF!=Percentuais!#REF!,Percentuais!#REF!,IF(#REF!=Percentuais!#REF!,Percentuais!#REF!,\"\"))))","v":{"$error":"#REF!"}},{"$f":"IF(#REF!=\"\",\"\",IF(#REF!=Percentuais!$B$7,Percentuais!$C$11,IF(#REF!=Percentuais!#REF!,Percentuais!#REF!,IF(#REF!=Percentuais!#REF!,Percentuais!#REF!,\"\"))))","v":{"$error":"#REF!"}},{"$f":"IF(#REF!=\"\",\"\",IF(#REF!=Percentuais!$B$7,Percentuais!$C$12,IF(#REF!=Percentuais!#REF!,Percentuais!#REF!,IF(#REF!=Percentuais!#REF!,Percentuais!#REF!,\"\"))))","v":{"$error":"#REF!"}}]
[{"$nulls":4},"",{"$f":"IF(C6=\"\",\"\",Percentuais!$C$15)","v":""},null,null,"","",{"$nulls":5},{"$f":"IF(Percentuais!#REF!=\"\",\"\",Percentuais!#REF!)","v":{"$error":"#REF!"}},{"$f":"IF(P6=\"\",\"\",ROUNDUP(Percentuais!#REF!,3))","v":{"$error":"#REF!"}},null,null,{"$f":"IF(#REF!=\"\",\"\",IF(#REF!=Percentuais!$B$7,Percentuais!$C$9,IF(#REF!=Percentuais!#REF!,Percentuais!#REF!,IF(#REF!=Percentuais!#REF!,Percentuais!#REF!,\"\"))))","v":{"$error":"#REF!"}},{"$f":"IF(#REF!=\"\",\"\",IF(#REF!=Percentuais!$B$7,Percentuais!$C$10,IF(#REF!=Percentuais!#REF!,Percentuais!#REF!,IF(#REF!=Percentuais!#REF!,Percentuais!#REF!,\"\"))))","v":{"$error":"#REF!"}},{"$f":"IF(#REF!=\"\",\"\",IF(#REF!=Percentuais!$B$7,Percentuais!$C$11,IF(#REF!=Percentuais!#REF!,Percentuais!#REF!,IF(#REF!=Percentuais!#REF!,Percentuais!#REF!,\"\"))))","v":{"$error":"#REF!"}},{"$f":"IF(#REF!=\"\",\"\",IF(#REF!=Percentuais!$B$7,Percentuais!$C$12,IF(#REF!=Percentuais!#REF!,Percentuais!#REF!,IF(#REF!=Percentuais!#REF!,Percentuais!#REF!,\"\"))))","v":{"$error":"#REF!"}}]
[{"$nulls":4},"",{"$f":"IF(C7=\"\",\"\",Percentuais!$C$15)","v":""},null,null,"","",{"$nulls":9},{"$f":"IF(#REF!=\"\",\"\",IF(#REF!=Percentuais!$B$7,Percentuais!$C$9,IF(#REF!=Percentuais!#REF!,Percentuais!#REF!,IF(#REF!=Percentuais!#REF!,Percentuais!#REF!,\"\"))))","v":{"$error":"#REF!"}},{"$f":"IF(#REF!=\"\",\"\",IF(#REF!=Percentuais!$B$7,Percentuais!$C$10,IF(#REF!=Percentuais!#REF!,Percentuais!#REF!,IF(#REF!=Percentuais!#REF!,Percentuais!#REF!,\"\"))))","v":{"$error":"#REF!"}},{"$f":"IF(#REF!=\"\",\"\",IF(#REF!=Percentuais!$B$7,Percentuais!$C$11,IF(#REF!=Percentuais!#REF!,Percentuais!#REF!,IF(#REF!=Percentuais!#REF!,Percentuais!#REF!,\"\"))))","v":{"$error":"#REF!"}},{"$f":"IF(#REF!=\"\",\"\",IF(#REF!=Percentuais!$B$7,Percentuais!$C$12,IF(#REF!=Percentuais!#REF!,Percentuais!#REF!,IF(#REF!=Percentuais!#REF!,Percentuais!#REF!,\"\"))))","v":{"$error":"#REF!"}}]
[{"$nulls":4},"",{"$f":"IF(C8=\"\",\"\",Percentuais!$C$15)","v":""},null,null,"","",{"$nulls":9},{"$f":"IF(#REF!=\"\",\"\",IF(#REF!=Percentuais!$B$7,Percentuais!$C$9,IF(#REF!=Percentuais!#REF!,Percentuais!#REF!,IF(#REF!=Percentuais!#REF!,Percentuais!#REF!,\"\"))))","v":{"$error":"#REF!"}},{"$f":"IF(#REF!=\"\",\"\",IF(#REF!=Percentuais!$B$7,Percentuais!$C$10,IF(#REF!=Percentuais!#REF!,Percentuais!#REF!,IF(#REF!=Percentuais!#REF!,Percentuais!#REF!,\"\"))))","v":{"$error":"#REF!"}},{"$f":"IF(#REF!=\"\",\"\",IF(#REF!=Percentuais!$B$7,Percentuais!$C$11,IF(#REF!=Percentuais!#REF!,Percentuais!#REF!,IF(#REF!=Percentuais!#REF!,Percentuais!#REF!,\"\"))))","v":{"$error":"#REF!"}},{"$f":"IF(#REF!=\"\",\"\",IF(#REF!=Percentuais!$B$7,Percentuais!$C$12,IF(#REF!=Percentuais!#REF!,Percentuais!#REF!,IF(#REF!=Percentuais!#REF!,Percentuais!#REF!,\"\"))))","v":{"$error":"#REF!"}}]
[{"$nulls":4},"",{"$f":"IF(C9=\"\",\"\",Percentuais!$C$15)","v":""},null,null,"","",{"$nulls":9},{"$f":"IF(#REF!=\"\",\"\",IF(#REF!=Percentuais!$B$7,Percentuais!$C$9,IF(#REF!=Percentuais!#REF!,Percentuais!#REF!,IF(#REF!=Percentuais!#REF!,Percentuais!#REF!,\"\"))))","v":{"$error":"#REF!"}},{"$f":"IF(#REF!=\"\",\"\",IF(#REF!=Percentuais!$B$7,Percentuais!$C$10,IF(#REF!=Percentuais!#REF!,Percentuais!#REF!,IF(#REF!=Percentuais!#REF!,Percentuais!#REF!,\"\"))))","v":{"$error":"#REF!"}},{"$f":"IF(#REF!=\"\",\"\",IF(#REF!=Percentuais!$B$7,Percentuais!$C$11,IF(#REF!=Percentuais!#REF!,Percentuais!#REF!,IF(#REF!=Percentuais!#REF!,Percentuais!#REF!,\"\"))))","v":{"$error":"#REF!"}},{"$f":"IF(#REF!=\"\",\"\",IF(#REF!=Percentuais!$B$7,Percentuais!$C$12,IF(#REF!=Percentuais!#REF!,Percentuais!#REF!,IF(#REF!=Percentuais!#REF!,Percentuais!#REF!,\"\"))))","v":{"$error":"#REF!"}}]
[{"$nulls":4},"",{"$f":"IF(C10=\"\",\"\",Percentuais!$C$15)","v":""},null,null,"","",{"$nulls":9},{"$f":"IF(#REF!=\"\",\"\",IF(#REF!=Percentuais!$B$7,Percentuais!$C$9,IF(#REF!=Percentuais!#REF!,Percentuais!#REF!,IF(#REF!=Percentuais!#REF!,Percentuais!#REF!,\"\"))))","v":{"$error":"#REF!"}},{"$f":"IF(#REF!=\"\",\"\",IF(#REF!=Percentuais!$B$7,Percentuais!$C$10,IF(#REF!=Percentuais!#REF!,Percentuais!#REF!,IF(#REF!=Percentuais!#REF!,Percentuais!#REF!,\"\"))))","v":{"$error":"#REF!"}},{"$f":"IF(#REF!=\"\",\"\",IF(#REF!=Percentuais!$B$7,Percentuais!$C$11,IF(#REF!=Percentuais!#REF!,Percentuais!#REF!,IF(#REF!=Percentuais!#REF!,Percentuais!#REF!,\"\"))))","v":{"$error":"#REF!"}},{"$f":"IF(#REF!=\"\",\"\",IF(#REF!=Percentuais!$B$7,Percentuais!$C$12,IF(#REF!=Percentuais!#REF!,Percentuais!#REF!,IF(#REF!=Percentuais!#REF!,Percentuais!#REF!,\"\"))))","v":{"$error":"#REF!"}}]
[{"$nulls":4},"",{"$f":"IF(C11=\"\",\"\",Percentuais!$C$15)","v":""},null,null,"","",{"$nulls":9},{"$f":"IF(#REF!=\"\",\"\",IF(#REF!=Percentuais!$B$7,Percentuais!$C$9,IF(#REF!=Percentuais!#REF!,Percentuais!#REF!,IF(#REF!=Percentuais!#REF!,Percentuais!#REF!,\"\"))))","v":{"$error":"#REF!"}},{"$f":"IF(#REF!=\"\",\"\",IF(#REF!=Percentuais!$B$7,Percentuais!$C$10,IF(#REF!=Percentuais!#REF!,Percentuais!#REF!,IF(#REF!=Percentuais!#REF!,Percentuais!#REF!,\"\"))))","v":{"$error":"#REF!"}},{"$f":"IF(#REF!=\"\",\"\",IF(#REF!=Percentuais!$B$7,Percentuais!$C$11,IF(#REF!=Percentuais!#REF!,Percentuais!#REF!,IF(#REF!=Percentuais!#REF!,Percentuais!#REF!,\"\"))))","v":{"$error":"#REF!"}},{"$f":"IF(#REF!=\"\",\"\",IF(#REF!=Percentuais!$B$7,Percentuais!$C$12,IF(#REF!=Percentuais!#REF!,Percentuais!#REF!,IF(#REF!=Percentuais!#REF!,Percentuais!#REF!,\"\"))))","v":{"$error":"#REF!"}}]
[{"$nulls":4},"",{"$f":"IF(C12=\"\",\"\",Percentuais!$C$15)","v":""},null,null,"","",{"$nulls":9},{"$f":"IF(#REF!=\"\",\"\",IF(#REF!=Percentuais!$B$7,Percentuais!$C$9,IF(#REF!=Percentuais!#REF!,Percentuais!#REF!,IF(#REF!=Percentuais!#REF!,Percentuais!#REF!,\"\"))))","v":{"$error":"#REF!"}},{"$f":"IF(#REF!=\"\",\"\",IF(#REF!=Percentuais!$B$7,Percentuais!$C$10,IF(#REF!=Percentuais!#REF!,Percentuais!#REF!,IF(#REF!=Percentuais!#REF!,Percentuais!#REF!,\"\"))))","v":{"$error":"#REF!"}},{"$f":"IF(#REF!=\"\",\"\",IF(#REF!=Percentuais!$B$7,Percentuais!$C$11,IF(#REF!=Percentuais!#REF!,Percentuais!#REF!,IF(#REF!=Percentuais!#REF!,Percentuais!#REF!,\"\"))))","v":{"$error":"#REF!"}},{"$f":"IF(#REF!=\"\",\"\",IF(#REF!=Percentuais!$B$7,Percentuais!$C$12,IF(#REF!=Percentuais!#REF!,Percentuais!#REF!,IF(#REF!=Percentuais!#REF!,Percentuais!#REF!,\"\"))))","v":{"$error":"#REF!"}}]
[{"$nulls":4},"",{"$f":"IF(C13=\"\",\"\",Percentuais!$C$15)","v":""},null,null,"","",{"$nulls":9},{"$f":"IF(#REF!=\"\",\"\",IF(#REF!=Percentuais!$B$7,Percentuais!$C$9,IF(#REF!=Percentuais!#REF!,Percentuais!#REF!,IF(#REF!=Percentuais!#REF!,Percentuais!#REF!,\"\"))))","v":{"$error":"#REF!"}},{"$f":"IF(#REF!=\"\",\"\",IF(#REF!=Percentuais!$B$7,Percentuais!$C$10,IF(#REF!=Percentuais!#REF!,Percentuais!#REF!,IF(#REF!=Percentuais!#REF!,Percentuais!#REF!,\"\"))))","v":{"$error":"#REF!"}},{"$f":"IF(#REF!=\"\",\"\",IF(#REF!=Percentuais!$B$7,Percentuais!$C$11,IF(#REF!=Percentuais!#REF!,Percentuais!#REF!,IF(#REF!=Percentuais!#REF!,Percentuais!#REF!,\"\"))))","v":{"$error":"#REF!"}},{"$f":"IF(#REF!=\"\",\"\",IF(#REF!=Percentuais!$B$7,Percentuais!$C$12,IF(#REF!=Percentuais!#REF!,Percentuais!#REF!,IF(#REF!=Percentuais!#REF!,Percentuais!#REF!,\"\"))))","v":{"$error":"#REF!"}}]
[{"$nulls":4},"",{"$f":"IF(C14=\"\",\"\",Percentuais!$C$15)","v":""},null,null,"","",{"$nulls":9},{"$f":"IF(#REF!=\"\",\"\",IF(#REF!=Percentuais!$B$7,Percentuais!$C$9,IF(#REF!=Percentuais!#REF!,Percentuais!#REF!,IF(#REF!=Percentuais!#REF!,Percentuais!#REF!,\"\"))))","v":{"$error":"#REF!"}},{"$f":"IF(#REF!=\"\",\"\",IF(#REF!=Percentuais!$B$7,Percentuais!$C$10,IF(#REF!=Percentuais!#REF!,Percentuais!#REF!,IF(#REF!=Percentuais!#REF!,Percentuais!#REF!,\"\"))))","v":{"$error":"#REF!"}},{"$f":"IF(#REF!=\"\",\"\",IF(#REF!=Percentuais!$B$7,Percentuais!$C$11,IF(#REF!=Percentuais!#REF!,Percentuais!#REF!,IF(#REF!=Percentuais!#REF!,Percentuais!#REF!,\"\"))))","v":{"$error":"#REF!"}},{"$f":"IF(#REF!=\"\",\"\",IF(#REF!=Percentuais!$B$7,Percentuais!$C$12,IF(#REF!=Percentuais!#REF!,Percentuais!#REF!,IF(#REF!=Percentuais!#REF!,Percentuais!#REF!,\"\"))))","v":{"$error":"#REF!"}}]
[{"$nulls":4},"",{"$f":"IF(C15=\"\",\"\",Percentuais!$C$15)","v":""},null,null,"","",{"$nulls":9},{"$f":"IF(#REF!=\"\",\"\",IF(#REF!=Percentuais!$B$7,Percentuais!$C$9,IF(#REF!=Percentuais!#REF!,Percentuais!#REF!,IF(#REF!=Percentuais!#REF!,Percentuais!#REF!,\"\"))))","v":{"$error":"#REF!"}},{"$f":"IF(#REF!=\"\",\"\",IF(#REF!=Percentuais!$B$7,Percentuais!$C$10,IF(#REF!=Percentuais!#REF!,Percentuais!#REF!,IF(#REF!=Percentuais!#REF!,Percentuais!#REF!,\"\"))))","v":{"$error":"#REF!"}},{"$f":"IF(#REF!=\"\",\"\",IF(#REF!=Percentuais!$B$7,Percentuais!$C$11,IF(#REF!=Percentuais!#REF!,Percentuais!#REF!,IF(#REF!=Percentuais!#REF!,Percentuais!#REF!,\"\"))))","v":{"$error":"#REF!"}},{"$f":"IF(#REF!=\"\",\"\",IF(#REF!=Percentuais!$B$7,Percentuais!$C$12,IF(#REF!=Percentuais!#REF!,Percentuais!#REF!,IF(#REF!=Percentuais!#REF!,Percentuais!#REF!,\"\"))))","v":{"$error":"#REF!"}}]
[{"$nulls":4},"",{"$f":"IF(C16=\"\",\"\",Percentuais!$C$15)","v":""},null,null,"","",{"$nulls":9},{"$f":"IF(#REF!=\"\",\"\",IF(#REF!=Percentuais!$B$7,Percentuais!$C$9,IF(#REF!=Percentuais!#REF!,Percentuais!#REF!,IF(#REF!=Percentuais!#REF!,Percentuais!#REF!,\"\"))))","v":{"$error":"#REF!"}},{"$f":"IF(#REF!=\"\",\"\",IF(#REF!=Percentuais!$B$7,Percentuais!$C$10,IF(#REF!=Percentuais!#REF!,Percentuais!#REF!,IF(#REF!=Percentuais!#REF!,Percentuais!#REF!,\"\"))))","v":{"$error":"#REF!"}},{"$f":"IF(#REF!=\"\",\"\",IF(#REF!=Percentuais!$B$7,Percentuais!$C$11,IF(#REF!=Percentuais!#REF!,Percentuais!#REF!,IF(#REF!=Percentuais!#REF!,Percentuais!#REF!,\"\"))))","v":{"$error":"#REF!"}},{"$f":"IF(#REF!=\"\",\"\",IF(#REF!=Percentuais!$B$7,Percentuais!$C$12,IF(#REF!=Percentuais!#REF!,Percentuais!#REF!,IF(#REF!=Percentuais!#REF!,Percentuais!#REF!,\"\"))))","v":{"$error":"#REF!"}}]
[{"$nulls":4},"",{"$f":"IF(C17=\"\",\"\",Percentuais!$C$15)","v":""},null,null,"","",{"$nulls":9},{"$f":"IF(#REF!=\"\",\"\",IF(#REF!=Percentuais!$B$7,Percentuais!$C$9,IF(#REF!=Percentuais!#REF!,Percentuais!#REF!,IF(#REF!=Percentuais!#REF!,Percentuais!#REF!,\"\"))))","v":{"$error":"#REF!"}},{"$f":"IF(#REF!=\"\",\"\",IF(#REF!=Percentuais!$B$7,Percentuais!$C$10,IF(#REF!=Percentuais!#REF!,Percentuais!#REF!,IF(#REF!=Percentuais!#REF!,Percentuais!#REF!,\"\"))))","v":{"$error":"#REF!"}},{"$f":"IF(#REF!=\"\",\"\",IF(#REF!=Percentuais!$B$7,Percentuais!$C$11,IF(#REF!=Percentuais!#REF!,Percentuais!#REF!,IF(#REF!=Percentuais!#REF!,Percentuais!#REF!,\"\"))))","v":{"$error":"#REF!"}},{"$f":"IF(#REF!=\"\",\"\",IF(#REF!=Percentuais!$B$7,Percentuais!$C$12,IF(#REF!=Percentuais!#REF!,Percentuais!#REF!,IF(#REF!=Percentuais!#REF!,Percentuais!#REF!,\"\"))))","v":{"$error":"#REF!"}}]
[{"$nulls":4},"",{"$f":"IF(C18=\"\",\"\",Percentuais!$C$15)","v":""},null,null,"","",{"$nulls":9},{"$f":"IF(#REF!=\"\",\"\",IF(#REF!=Percentuais!$B$7,Percentuais!$C$9,IF(#REF!=Percentuais!#REF!,Percentuais!#REF!,IF(#REF!=Percentuais!#REF!,Percentuais!#REF!,\"\"))))","v":{"$error":"#REF!"}},{"$f":"IF(#REF!=\"\",\"\",IF(#REF!=Percentuais!$B$7,Percentuais!$C$10,IF(#REF!=Percentuais!#REF!,Percentuais!#REF!,IF(#REF!=Percentuais!#REF!,Percentuais!#REF!,\"\"))))","v":{"$error":"#REF!"}},{"$f":"IF(#REF!=\"\",\"\",IF(#REF!=Percentuais!$B$7,Percentuais!$C$11,IF(#REF!=Percentuais!#REF!,Percentuais!#REF!,IF(#REF!=Percentuais!#REF!,Percentuais!#REF!,\"\"))))","v":{"$error":"#REF!"}},{"$f":"IF(#REF!=\"\",\"\",IF(#REF!=Percentuais!$B$7,Percentuais!$C$12,IF(#REF!=Percentuais!#REF!,Percentuais!#REF!,IF(#REF!=Percentuais!#REF!,Percentuais!#REF!,\"\"))))","v":{"$error":"#REF!"}}]
[{"$nulls":4},"",{"$f":"IF(C19=\"\",\"\",Percentuais!$C$15)","v":""},null,null,"","",{"$nulls":9},{"$f":"IF(#REF!=\"\",\"\",IF(#REF!=Percentuais!$B$7,Percentuais!$C$9,IF(#REF!=Percentuais!#REF!,Percentuais!#REF!,IF(#REF!=Percentuais!#REF!,Percentuais!#REF!,\"\"))))","v":{"$error":"#REF!"}},{"$f":"IF(#REF!=\"\",\"\",IF(#REF!=Percentuais!$B$7,Percentuais!$C$10,IF(#REF!=Percentuais!#REF!,Percentuais!#REF!,IF(#REF!=Percentuais!#REF!,Percentuais!#REF!,\"\"))))","v":{"$error":"#REF!"}},{"$f":"IF(#REF!=\"\",\"\",IF(#REF!=Percentuais!$B$7,Percentuais!$C$11,IF(#REF!=Percentuais!#REF!,Percentuais!#REF!,IF(#REF!=Percentuais!#REF!,Percentuais!#REF!,\"\"))))","v":{"$error":"#REF!"}},{"$f":"IF(#REF!=\"\",\"\",IF(#REF!=Percentuais!$B$7,Percentuais!$C$12,IF(#REF!=Percentuais!#REF!,Percentuais!#REF!,IF(#REF!=Percentuais!#REF!,Percentuais!#REF!,\"\"))))","v":{"$error":"#REF!"}}]
[{"$nulls":4},"",{"$f":"IF(C20=\"\",\"\",Percentuais!$C$15)","v":""},null,null,"","",{"$nulls":9},{"$f":"IF(#REF!=\"\",\"\",IF(#REF!=Percentuais!$B$7,Percentuais!$C$9,IF(#REF!=Percentuais!#REF!,Percentuais!#REF!,IF(#REF!=Percentuais!#REF!,Percentuais!#REF!,\"\"))))","v":{"$error":"#REF!"}},{"$f":"IF(#REF!=\"\",\"\",IF(#REF!=Percentuais!$B$7,Percentuais!$C$10,IF(#REF!=Percentuais!#REF!,Percentuais!#REF!,IF(#REF!=Percentuais!#REF!,Percentuais!#REF!,\"\"))))","v":{"$error":"#REF!"}},{"$f":"IF(#REF!=\"\",\"\",IF(#REF!=Percentuais!$B$7,Percentuais!$C$11,IF(#REF!=Percentuais!#REF!,Percentuais!#REF!,IF(#REF!=Percentuais!#REF!,Percentuais!#REF!,\"\"))))","v":{"$error":"#REF!"}},{"$f":"IF(#REF!=\"\",\"\",IF(#REF!=Percentuais!$B$7,Percentuais!$C$12,IF(#REF!=Percentuais!#REF!,Percentuais!#REF!,IF(#REF!=Percentuais!#REF!,Percentuais!#REF!,\"\"))))","v":{"$error":"#REF!"}}]
[{"$nulls":4},"",{"$f":"IF(C21=\"\",\"\",Percentuais!$C$15)","v":""},null,null,"","",{"$nulls":9},{"$f":"IF(#REF!=\"\",\"\",IF(#REF!=Percentuais!$B$7,Percentuais!$C$9,IF(#REF!=Percentuais!#REF!,Percentuais!#REF!,IF(#REF!=Percentuais!#REF!,Percentuais!#REF!,\"\"))))","v":{"$error":"#REF!"}},{"$f":"IF(#REF!=\"\",\"\",IF(#REF!=Percentuais!$B$7,Percentuais!$C$10,IF(#REF!=Percentuais!#REF!,Percentuais!#REF!,IF(#REF!=Percentuais!#REF!,Percentuais!#REF!,\"\"))))","v":{"$error":"#REF!"}},{"$f":"IF(#REF!=\"\",\"\",IF(#REF!=Percentuais!$B$7,Percentuais!$C$11,IF(#REF!=Percentuais!#REF!,Percentuais!#REF!,IF(#REF!=Percentuais!#REF!,Percentuais!#REF!,\"\"))))","v":{"$error":"#REF!"}},{"$f":"IF(#REF!=\"\",\"\",IF(#REF!=Percentuais!$B$7,Percentuais!$C$12,IF(#REF!=Percentuais!#REF!,Percentuais!#REF!,IF(#REF!=Percentuais!#REF!,Percentuais!#REF!,\"\"))))","v":{"$error":"#REF!"}}]
[{"$nulls":4},"",{"$f":"IF(C22=\"\",\"\",Percentuais!$C$15)","v":""},null,null,"","",{"$nulls":9},{"$f":"IF(#REF!=\"\",\"\",IF(#REF!=Percentuais!$B$7,Percentuais!$C$9,IF(#REF!=Percentuais!#REF!,Percentuais!#REF!,IF(#REF!=Percentuais!#REF!,Percentuais!#REF!,\"\"))))","v":{"$error":"#REF!"}},{"$f":"IF(#REF!=\"\",\"\",IF(#REF!=Percentuais!$B$7,Percentuais!$C$10,IF(#REF!=Percentuais!#REF!,Percentuais!#REF!,IF(#REF!=Percentuais!#REF!,Percentuais!#REF!,\"\"))))","v":{"$error":"#REF!"}},{"$f":"IF(#REF!=\"\",\"\",IF(#REF!=Percentuais!$B$7,Percentuais!$C$11,IF(#REF!=Percentuais!#REF!,Percentuais!#REF!,IF(#REF!=Percentuais!#REF!,Percentuais!#REF!,\"\"))))","v":{"$error":"#REF!"}},{"$f":"IF(#REF!=\"\",\"\",IF(#REF!=Percentuais!$B$7,Percentuais!$C$12,IF(#REF!=Percentuais!#REF!,Percentuais!#REF!,IF(#REF!=Percentuais!#REF!,Percentuais!#REF!,\"\"))))","v":{"$error":"#REF!"}}]
[{"$nulls":4},"",{"$f":"IF(C23=\"\",\"\",Percentuais!$C$15)","v":""},null,null,"",""]
[{"$nulls":4},"",{"$f":"IF(C24=\"\",\"\",Percentuais!$C$15)","v":""},null,null,"",""]
[{"$nulls":4},"",{"$f":"IF(C25=\"\",\"\",Percentuais!$C$15)","v":""},null,null,"",""]
[{"$nulls":4},"",{"$f":"IF(C26=\"\",\"\",Percentuais!$C$15)","v":""},null,null,"",""]
[{"$nulls":4},"",{"$f":"IF(C27=\"\",\"\",Percentuais!$C$15)","v":""},null,null,"",""]
[{"$nulls":4},"",{"$f":"IF(C28=\"\",\"\",Percentuais!$C$15)","v":""},null,null,"",""]
[{"$nulls":4},"",{"$f":"IF(C29=\"\",\"\",Percentuais!$C$15)","v":""},null,null,"",""]
[{"$nulls":4},"",{"$f":"IF(C30=\"\",\"\",Percentuais!$C$15)","v":""},null,null,"",""]
[{"$nulls":4},"",{"$f":"IF(C31=\"\",\"\",Percentuais!$C$15)","v":""},null,null,"",""]
[{"$nulls":4},"",{"$f":"IF(C32=\"\",\"\",Percentuais!$C$15)","v":""},null,null,"",""]
[{"$nulls":4},"",{"$f":"IF(C33=\"\",\"\",Percentuais!$C$15)","v":""},null,null,"",""]
[{"$nulls":4},"",{"$f":"IF(C34=\"\",\"\",Percentuais!$C$15)","v":""},null,null,"",""]
[{"$nulls":4},"",{"$f":"IF(C35=\"\",\"\",Percentuais!$C$15)","v":""},null,null,"",""]
[{"$nulls":4},{"$f":"IF(C36=\"\",\"\",C36*F36)","v":""},{"$f":"IF(C36=\"\",\"\",Percentuais!$C$15)","v":""},null,null,{"$f":"IF(C36=\"\",\"\",C36-D36-E36)","v":""},{"$f":"IF(C36=\"\",\"\",I36/C36)","v":""}]
[{"$nulls":4},"",{"$f":"IF(C37=\"\",\"\",Percentuais!$C$15)","v":""},null,null,"",""]
[{"$nulls":4},"",{"$f":"IF(C38=\"\",\"\",Percentuais!$C$15)","v":""},null,null,"",""]
[{"$nulls":4},"",{"$f":"IF(C39=\"\",\"\",Percentuais!$C$15)","v":""},null,null,"",""]
[{"$nulls":4},"",{"$f":"IF(C40=\"\",\"\",Percentuais!$C$15)","v":""},null,null,"",""]
[{"$nulls":4},"",{"$f":"IF(C41=\"\",\"\",Percentuais!$C$15)","v":""},null,null,"",""]
[{"$nulls":4},"",{"$f":"IF(C42=\"\",\"\",Percentuais!$C$15)","v":""},null,null,"",""]
[{"$nulls":4},"",{"$f":"IF(C43=\"\",\"\",Percentuais!$C$15)","v":""},null,null,"",""]
[{"$nulls":4},"",{"$f":"IF(C44=\"\",\"\",Percentuais!$C$15)","v":""},null,null,"",""]
[{"$nulls":4},"",{"$f":"IF(C45=\"\",\"\",Percentuais!$C$15)","v":""},null,null,"",""]
[{"$nulls":4},"",{"$f":"IF(C46=\"\",\"\",Percentuais!$C$15)","v":""},null,null,"",""]
[{"$nulls":4},"",{"$f":"IF(C47=\"\",\"\",Percentuais!$C$15)","v":""},null,null,"",""]
[{"$nulls":4},"",{"$f":"IF(C48=\"\",\"\",Percentuais!$C$15)","v":""},null,null,"",""]
[{"$nulls":4},"",{"$f":"IF(C49=\"\",\"\",Percentuais!$C$15)","v":""},null,null,"",""]
[{"$nulls":4},"",{"$f":"IF(C50=\"\",\"\",Percentuais!$C$15)","v":""},null,null,"",""]
[{"$nulls":4},"",{"$f":"IF(C51=\"\",\"\",Percentuais!$C$15)","v":""},null,null,"",""]
[{"$nulls":4},"",{"$f":"IF(C52=\"\",\"\",Percentuais!$C$15)","v":""},null,null,"",""]
[{"$nulls":4},"",{"$f":"IF(C53=\"\",\"\",Percentuais!$C$15)","v":""},null,null,"",""]
[{"$nulls":4},"",{"$f":"IF(C54=\"\",\"\",Percentuais!$C$15)","v":""},null,null,"",""]
[{"$nulls":4},"",{"$f":"IF(C55=\"\",\"\",Percentuais!$C$15)","v":""},null,null,"",""]
[{"$nulls":4},"",{"$f":"IF(C56=\"\",\"\",Percentuais!$C$15)","v":""},null,null,"",""]
[{"$nulls":4},"",{"$f":"IF(C57=\"\",\"\",Percentuais!$C$15)","v":""},null,null,"",""]
[{"$nulls":4},"",{"$f":"IF(C58=\"\",\"\",Percentuais!$C$15)","v":""},null,null,"",""]
[{"$nulls":4},"",{"$f":"IF(C59=\"\",\"\",Percentuais!$C$15)","v":""},null,null,"",""]
[{"$nulls":4},"",{"$f":"IF(C60=\"\",\"\",Percentuais!$C$15)","v":""},null,null,"",""]
[{"$nulls":4},"",{"$f":"IF(C61=\"\",\"\",Percentuais!$C$15)","v":""},null,null,"",""]
[{"$nulls":4},"",{"$f":"IF(C62=\"\",\"\",Percentuais!$C$15)","v":""},null,null,"",""]
[{"$nulls":4},"",{"$f":"IF(C63=\"\",\"\",Percentuais!$C$15)","v":""},null,null,"",""]
[{"$nulls":4},"",{"$f":"IF(C64=\"\",\"\",Percentuais!$C$15)","v":""},null,null,"",""]
[{"$nulls":4},"",{"$f":"IF(C65=\"\",\"\",Percentuais!$C$15)","v":""},null,null,"",""]
[{"$nulls":4},"",{"$f":"IF(C66=\"\",\"\",Percentuais!$C$15)","v":""},null,null,"",""]
[{"$nulls":4},"",{"$f":"IF(C67=\"\",\"\",Percentuais!$C$15)","v":""},null,null,"",""]
[{"$nulls":4},{"$f":"IF(C68=\"\",\"\",C68*F68)","v":""},{"$f":"IF(C68=\"\",\"\",Percentuais!$C$15)","v":""},null,null,{"$f":"IF(C68=\"\",\"\",C68-D68-E68)","v":""},{"$f":"IF(C68=\"\",\"\",I68/C68)","v":""}]
[{"$nulls":4},"",{"$f":"IF(C69=\"\",\"\",Percentuais!$C$15)","v":""},null,null,"",""]
[{"$nulls":4},"",{"$f":"IF(C70=\"\",\"\",Percentuais!$C$15)","v":""},null,null,"",""]
[{"$nulls":4},"",{"$f":"IF(C71=\"\",\"\",Percentuais!$C$15)","v":""},null,null,"",""]
[{"$nulls":4},"",{"$f":"IF(C72=\"\",\"\",Percentuais!$C$15)","v":""},null,null,"",""]
[{"$nulls":4},"",{"$f":"IF(C73=\"\",\"\",Percentuais!$C$15)","v":""},null,null,"",""]
[{"$nulls":4},"",{"$f":"IF(C74=\"\",\"\",Percentuais!$C$15)","v":""},null,null,"",""]
[{"$nulls":4},"",{"$f":"IF(C75=\"\",\"\",Percentuais!$C$15)","v":""},null,null,"",""]
[{"$nulls":4},"",{"$f":"IF(C76=\"\",\"\",Percentuais!$C$15)","v":""},null,null,"",""]
[{"$nulls":4},"",{"$f":"IF(C77=\"\",\"\",Percentuais!$C$15)","v":""},null,null,"",""]
[{"$nulls":4},"",{"$f":"IF(C78=\"\",\"\",Percentuais!$C$15)","v":""},null,null,"",""]
[{"$nulls":4},"",{"$f":"IF(C79=\"\",\"\",Percentuais!$C$15)","v":""},null,null,"",""]
[{"$nulls":4},"",{"$f":"IF(C80=\"\",\"\",Percentuais!$C$15)","v":""},null,null,"",""]
[{"$nulls":4},"",{"$f":"IF(C81=\"\",\"\",Percentuais!$C$15)","v":""},null,null,"",""]
[{"$nulls":4},"",{"$f":"IF(C82=\"\",\"\",Percentuais!$C$15)","v":""},null,null,"",""]
[{"$nulls":4},"",{"$f":"IF(C83=\"\",\"\",Percentuais!$C$15)","v":""},null,null,"",""]
[{"$nulls":4},"",{"$f":"IF(C84=\"\",\"\",Percentuais!$C$15)","v":""},null,null,"",""]
[{"$nulls":4},"",{"$f":"IF(C85=\"\",\"\",Percentuais!$C$15)","v":""},null,null,"",""]
[{"$nulls":4},"",{"$f":"IF(C86=\"\",\"\",Percentuais!$C$15)","v":""},null,null,"",""]
[{"$nulls":4},"",{"$f":"IF(C87=\"\",\"\",Percentuais!$C$15)","v":""},null,null,"",""]
[{"$nulls":4},"",{"$f":"IF(C88=\"\",\"\",Percentuais!$C$15)","v":""},null,null,"",""]
[{"$nulls":4},"",{"$f":"IF(C89=\"\",\"\",Percentuais!$C$15)","v":""},null,null,"",""]
[{"$nulls":4},"",{"$f":"IF(C90=\"\",\"\",Percentuais!$C$15)","v":""},null,null,"",""]
[{"$nulls":4},"",{"$f":"IF(C91=\"\",\"\",Percentuais!$C$15)","v":""},null,null,"",""]
[{"$nulls":4},"",{"$f":"IF(C92=\"\",\"\",Percentuais!$C$15)","v":""},null,null,"",""]
[{"$nulls":4},"",{"$f":"IF(C93=\"\",\"\",Percentuais!$C$15)","v":""},null,null,"",""]
[{"$nulls":4},"",{"$f":"IF(C94=\"\",\"\",Percentuais!$C$15)","v":""},null,null,"",""]
[{"$nulls":4},"",{"$f":"IF(C95=\"\",\"\",Percentuais!$C$15)","v":""},null,null,"",""]
[{"$nulls":4},"",{"$f":"IF(C96=\"\",\"\",Percentuais!$C$15)","v":""},null,null,"",""]
[{"$nulls":4},"",{"$f":"IF(C97=\"\",\"\",Percentuais!$C$15)","v":""},null,null,"",""]
[{"$nulls":4},"",{"$f":"IF(C98=\"\",\"\",Percentuais!$C$15)","v":""},null,null,"",""]
[{"$nulls":4},"",{"$f":"IF(C99=\"\",\"\",Percentuais!$C$15)","v":""},null,null,"",""]
[{"$nulls":4},{"$f":"IF(C100=\"\",\"\",C100*F100)","v":""},{"$f":"IF(C100=\"\",\"\",Percentuais!$C$15)","v":""},null,null,"",{"$f":"IF(C100=\"\",\"\",I100/C100)","v":""},{"$nulls":9},{"$f":"IF(#REF!=\"\",\"\",IF(#REF!=Percentuais!$B$7,Percentuais!$C$9,IF(#REF!=Percentuais!#REF!,Percentuais!#REF!,IF(#REF!=Percentuais!#REF!,Percentuais!#REF!,\"\"))))","v":{"$error":"#REF!"}},{"$f":"IF(#REF!=\"\",\"\",IF(#REF!=Percentuais!$B$7,Percentuais!$C$10,IF(#REF!=Percentuais!#REF!,Percentuais!#REF!,IF(#REF!=Percentuais!#REF!,Percentuais!#REF!,\"\"))))","v":{"$error":"#REF!"}},{"$f":"IF(#REF!=\"\",\"\",IF(#REF!=Percentuais!$B$7,Percentuais!$C$11,IF(#REF!=Percentuais!#REF!,Percentuais!#REF!,IF(#REF!=Percentuais!#REF!,Percentuais!#REF!,\"\"))))","v":{"$error":"#REF!"}},{"$f":"IF(#REF!=\"\",\"\",IF(#REF!=Percentuais!$B$7,Percentuais!$C$12,IF(#REF!=Percentuais!#REF!,Percentuais!#REF!,IF(#REF!=Percentuais!#REF!,Percentuais!#REF!,\"\"))))","v":{"$error":"#REF!"}}]
[]
["FIM","FIM","FIM","FIM",null,"FIM","FIM","FIM","FIM","FIM",null,"FIM"]

{"sheet":"Cálculo PE","index":5,"n_rows":16,"n_cols":8,"rows_kept":16}
["Cálculo do Ponto de Equilíbrio"]
[]
[]
[{"$nulls":3},"Despesa + Investimento Total (mês)",{"$f":"'Despesas Totais'!F4","v":0}]
[]
[{"$nulls":3},"Média da Margem de Contribuição",{"$f":"'Preços e Custos'!J2","v":{"v":0,"d":"0.0%"}}]
[]
[{"$nulls":3},"Preço Médio",{"$f":"SUMPRODUCT('Preços e Custos'!C4:C100,'Preços e Custos'!L4:L100)/SUM('Preços e Custos'!L4:L100)","v":0}]
[]
[{"$nulls":3},"Faturamento Mínimo Mensal:",null,null,"Faturamento Ideal Mensal:"]
[]
[{"$nulls":3},"O mínimo que preciso faturar para não ter prejuízo.",null,null,"Não me contendo com o zero a zero e quero um lucro de (preencher ao lado):",{"v":0.15,"d":"15%"}]
[{"$nulls":3},"Ponto de Equilíbrio Mês",{"$f":"E4/E6","v":{"$error":"#DIV/0!"}},null,"Faturamento Ideal Mês","Não disponível nesta versão"]
[]
[{"$nulls":3},"Lucro mensal final",null,null,"Lucro mensal final","Não disponível nesta versão"]
[{"$nulls":3},"Ponto de Equilíbrio em quantidade Anual","Não disponível nesta versão",null,"Ponto de Equilíbrio em quantidade Anual","Não disponível nesta versão"]

{"sheet":"Cálculo PE Específico","index":6,"n_rows":22,"n_cols":7,"rows_kept":22}
[]
[null,"Cálculo Ponto de Equilíbrio Específico"]
[]
[null,"Contratar pessoas",{"v":6000,"d":"R$ 6,000.00"}]
[]
[null,"Contratar Consultoria",{"v":20000,"d":"R$ 20,000.00"}]
[]
[null,"Investimento em treinamentos",{"v":10000,"d":"R$ 10,000.00"},{"$nulls":3},"Preencha quais são os tipos de Investimentos"]
[{"$nulls":6},"Contratar pessoas"]
[null,"Média da Margem de Contrubuição",{"$f":"'Cálculo PE'!E6","v":{"v":0,"d":"0.0%"}},{"$nulls":3},"Aumento de Salário"]
[{"$nulls":6},"Contratar Consultoria"]
[null,{"$f":"B22","v":"Faturamento para alcançar o PE "},"Não disponível nesta versão",{"$nulls":3},"Investimento em treinamentos"]
[{"$nulls":6},"Exemplo 01"]
[{"$nulls":6},"Exemplo 02"]
[{"$nulls":6},"Exemplo 03"]
[]
[]
[]
[null,{"$f":"B4","v":"Contratar pessoas"},{"$f":"C4","v":6000}]
[null,{"$f":"B6","v":"Contratar Consultoria"},{"$f":"C6","v":20000}]
[null,{"$f":"B8","v":"Investimento em treinamentos"},{"$f":"C8","v":10000}]
[null,"Faturamento para alcançar o PE ",{"$f":"C12","v":"Não disponível nesta versão"}]

{"sheet":"Turbinando","index":7,"n_rows":108,"n_cols":20,"rows_kept":108}
[{"$nulls":4},"Turbinando os Lucros!!!"]
[]
[null,"Fluxo Base para Comparação "]
[]
[null,"Qual Lucro Base você deseja avaliar?",{"v":0.1,"d":"10%"}]
[{"$nulls":15},"Invisível","Visível"]
[null,"Faturamento Mensal",{"$f":"C10/(D9-C5)","v":0},{"$f":"C7/$C$7","v":{"$error":"#DIV/0!"}},{"$nulls":10},{"$f":"B7","v":"Faturamento Mensal"},null,{"$f":"C7","v":0}]
[null,"Custos Variáveis",{"$f":"C7*D8","v":0},{"$f":"1-D9","v":{"v":1,"d":"100.0%"}},{"$nulls":10},{"$f":"B8","v":"Custos Variáveis"},{"$f":"Q9+P9","v":0},{"$f":"C8","v":0},null,{"$f":"D8-Percentuais!C15","v":{"v":1,"d":"100.0%"}},{"$f":"S8*C7","v":0}]
[null,"Margem de Contribuição",{"$f":"C7-C8","v":0},{"$f":"'Preços e Custos'!J2","v":{"v":0,"d":"0.0%"}},{"$nulls":10},{"$f":"B10","v":"Despesas Fixas e Investimentos"},{"$f":"Q10+P10","v":0},{"$f":"C10","v":0}]
[null,"Despesas Fixas e Investimentos",{"$f":"'Despesas Totais'!$F$4","v":0},{"$f":"C10/$C$7","v":{"$error":"#DIV/0!"}},{"$nulls":10},{"$f":"B11","v":"Lucro Operacional"},null,{"$f":"C11","v":0}]
[null,"Lucro Operacional",{"$f":"C9-C10","v":0},{"$f":"C11/$C$7","v":{"$error":"#DIV/0!"}}]
[]
[null,"Preço Médio",{"$f":"'Cálculo PE'!E8","v":0}]
[]
[null,"Quantidade vendida (mês)",{"$f":"C7/C13","v":{"$error":"#DIV/0!"}}]
[]
[null,"Alteração no preço",{"$nulls":4},"Alteração na quantidade vendida"]
[]
[null,"O que acontece se eu alterar meu preço médio em:",{"v":0.05,"d":"5%"},{"$nulls":3},"O que acontece se eu alterar minha quantidade vendida média em:",{"v":0.05,"d":"5%"}]
[]
[null,"Novo preço médio",{"$f":"C13*(1+C19)","v":0},{"$nulls":3},"Nova quantidade vendida",{"$f":"C15*(1+H19)","v":{"$error":"#DIV/0!"}}]
[{"$nulls":3},"%","Diferença",{"$nulls":3},"%","Diferença"]
[null,"Faturamento Mensal",{"$f":"C21*C15","v":{"$error":"#DIV/0!"}},{"$f":"C23/$C$23","v":{"$error":"#DIV/0!"}},{"$f":"C23/$C7-1","v":{"$error":"#DIV/0!"}},null,"Faturamento Mensal",{"$f":"C15*(1+H19)*C13","v":{"$error":"#DIV/0!"}},{"$f":"H23/$H$23","v":{"$error":"#DIV/0!"}},{"$f":"H23/$C7-1","v":{"$error":"#DIV/0!"}}]
[null,"Custos Variáveis",{"$f":"C23*Percentuais!C15+Turbinando!T8","v":{"$error":"#DIV/0!"}},{"$f":"C24/$C$23","v":{"$error":"#DIV/0!"}},{"$f":"C24/$C8-1","v":{"$error":"#DIV/0!"}},null,"Custos Variáveis",{"$f":"H23*D8","v":{"$error":"#DIV/0!"}},{"$f":"H24/$H$23","v":{"$error":"#DIV/0!"}},{"$f":"H24/$C8-1","v":{"$error":"#DIV/0!"}}]
[null,"Margem de Contribuição",{"$f":"C23-C24","v":{"$error":"#DIV/0!"}},{"$f":"C25/$C$23","v":{"$error":"#DIV/0!"}},{"$f":"C25/$C9-1","v":{"$error":"#DIV/0!"}},null,"Margem de Contribuição",{"$f":"H23-H24","v":{"$error":"#DIV/0!"}},{"$error":"#DIV/0!"},{"$f":"H25/$C9-1","v":{"$error":"#DIV/0!"}}]
[null,"Despesas Fixas e Investimentos",{"$f":"'Despesas Totais'!$F$4","v":0},{"$error":"#DIV/0!"},{"$f":"C26/$C10-1","v":{"$error":"#DIV/0!"}},null,"Despesas Fixas e Investimentos",{"$f":"C10","v":0},{"$error":"#DIV/0!"},{"$f":"H26/$C10-1","v":{"$error":"#DIV/0!"}}]
[null,"Lucro Operacional",{"$f":"C25-C26","v":{"$error":"#DIV/0!"}},{"$error":"#DIV/0!"},{"$f":"C27/$C11-1","v":{"$error":"#DIV/0!"}},null,"Lucro Operacional",{"$f":"H25-H26","v":{"$error":"#DIV/0!"}},{"$error":"#DIV/0!"},{"$f":"H27/$C11-1","v":{"$error":"#DIV/0!"}}]
[]
[null,"Diferença no lucro de",{"$f":"IF(C27>=$C$11,ABS(C27/$C$11-1),-ABS(C27/$C$11-1))","v":{"$error":"#DIV/0!"}},{"$nulls":3},"Diferença no lucro de",{"$f":"IF(H27>=$C$11,ABS(H27/$C$11-1),-ABS(H27/$C$11-1))","v":{"$error":"#DIV/0!"}}]
[]
[]
[null,null,"Diferença Receita","Diferença LUCRO",{"$nulls":3},"Diferença Receita","Diferença LUCRO"]
[null,null,{"$f":"E23","v":{"$error":"#DIV/0!"}},{"$f":"E27","v":{"$error":"#DIV/0!"}},{"$nulls":3},{"$f":"J23","v":{"$error":"#DIV/0!"}},{"$f":"J27","v":{"$error":"#DIV/0!"}}]
{"$rows_empty":11}
[null,"Alteração no custo variável geral",{"$nulls":4},"Alteração na despesa fixa"]
[]
[null,"O que acontece se eu alterar meu custo variável em:",{"v":-0.05,"d":"-5%"},{"$nulls":3},"O que acontece se eu alterar o gasto fixo em:",{"v":-0.05,"d":"-5%"}]
[]
[{"$nulls":3},"%","Diferença",{"$nulls":3},"%","Diferença"]
[null,"Faturamento Mensal",{"$f":"C7","v":0},{"$f":"C50/$C$50","v":{"$error":"#DIV/0!"}},{"$f":"C50/$C7-1","v":{"$error":"#DIV/0!"}},null,"Faturamento Mensal",{"$f":"C7","v":0},{"$f":"H50/$H$50","v":{"$error":"#DIV/0!"}},{"$f":"H50/$C7-1","v":{"$error":"#DIV/0!"}}]
[null,"Custos Variáveis",{"$f":"C50*D8*(1+C47)","v":0},{"$f":"C51/$C$50","v":{"$error":"#DIV/0!"}},{"$f":"C51/$C8-1","v":{"$error":"#DIV/0!"}},null,"Custos Variáveis",{"$f":"H50*D8","v":0},{"$f":"H51/$H$50","v":{"$error":"#DIV/0!"}},{"$f":"H51/$C8-1","v":{"$error":"#DIV/0!"}}]
[null,"Margem de Contribuição",{"$f":"C50-C51","v":0},{"$f":"C52/$C$50","v":{"$error":"#DIV/0!"}},{"$f":"C52/$C9-1","v":{"$error":"#DIV/0!"}},null,"Margem de Contribuição",{"$f":"H50-H51","v":0},{"$f":"H52/$H$50","v":{"$error":"#DIV/0!"}},{"$f":"H52/$C9-1","v":{"$error":"#DIV/0!"}}]
[null,"Despesas Fixas e Investimentos",{"$f":"'Despesas Totais'!$F$4","v":0},{"$error":"#DIV/0!"},{"$f":"C53/$C10-1","v":{"$error":"#DIV/0!"}},null,"Despesas Fixas e Investimentos",{"$f":"C10*(1+H47)","v":0},{"$f":"H53/$H$50","v":{"$error":"#DIV/0!"}},{"$f":"H53/$C10-1","v":{"$error":"#DIV/0!"}}]
[null,"Lucro Operacional",{"$f":"C52-C53","v":0},{"$error":"#DIV/0!"},{"$f":"C54/$C11-1","v":{"$error":"#DIV/0!"}},null,"Lucro Operacional",{"$f":"H52-H53","v":0},{"$f":"H54/$H$50","v":{"$error":"#DIV/0!"}},{"$f":"H54/$C11-1","v":{"$error":"#DIV/0!"}}]
[]
[null,"Diferença no lucro de",{"$f":"IF(C54>=$C$11,ABS(C54/$C$11-1),-ABS(C54/$C$11-1))","v":{"$error":"#DIV/0!"}},{"$nulls":3},"Diferença no lucro de",{"$f":"IF(H54>=$C$11,ABS(H54/$C$11-1),-ABS(H54/$C$11-1))","v":{"$error":"#DIV/0!"}}]
[]
[]
[]
[]
[]
[]
[null,null,"Diferença Custo Variável","Diferença LUCRO",{"$nulls":3},"Diferença Despesa Fixa","Diferença LUCRO"]
[null,null,{"$f":"E51","v":{"$error":"#DIV/0!"}},{"$f":"E54","v":{"$error":"#DIV/0!"}},{"$nulls":3},{"$f":"J53","v":{"$error":"#DIV/0!"}},{"$f":"J54","v":{"$error":"#DIV/0!"}}]
{"$rows_empty":9}
[null,"TODAS AS ALTERAÇÕES"]
[null,"Se TODAS as alterações ocorrerem simultaneamente"]
[{"$nulls":3},"%","Diferença"]
[null,"Faturamento Mensal",{"$f":"C21*(C15*(1+H19))","v":{"$error":"#DIV/0!"}},{"$f":"C77/$C$77","v":{"$error":"#DIV/0!"}},{"$f":"C77/$C7-1","v":{"$error":"#DIV/0!"}},null,null,"Lucro Base","Lucro TURBINADO"]
[null,"Custos Variáveis",{"$f":"(C77*Percentuais!C15+H23*S8)*(1+C47)","v":{"$error":"#DIV/0!"}},{"$f":"C78/$C$77","v":{"$error":"#DIV/0!"}},{"$f":"C78/$C8-1","v":{"$error":"#DIV/0!"}},null,null,{"$f":"D11","v":{"$error":"#DIV/0!"}},{"$f":"D81","v":{"$error":"#DIV/0!"}}]
[null,"Margem de Contribuição",{"$f":"C77-C78","v":{"$error":"#DIV/0!"}},{"$error":"#DIV/0!"},{"$f":"C79/$C9-1","v":{"$error":"#DIV/0!"}}]
[null,"Despesas Fixas e Investimentos",{"$f":"H53","v":0},{"$error":"#DIV/0!"},{"$f":"C80/$C10-1","v":{"$error":"#DIV/0!"}}]
[null,"Lucro Operacional",{"$f":"C79-C80","v":{"$error":"#DIV/0!"}},{"$error":"#DIV/0!"},{"$f":"C81/$C11-1","v":{"$error":"#DIV/0!"}}]
[]
[null,"Diferença no lucro de",{"$f":"IF(C81>=$C$11,ABS(C81/$C$11-1),-ABS(C81/$C$11-1))","v":{"$error":"#DIV/0!"}}]
[]
[{"$nulls":9},"Obs.:"]
[null,"O que está fazendo maior diferença?",{"$nulls":7},{"$f":"\"Alterando o Preço em \"&ROUND(C19,2)*100&\"% e a Quantidade Vendida em \"&ROUND(H19,2)*100&\"%.\"","v":"Alterando o Preço em 5% e a Quantidade Vendida em 5%."}]
[{"$nulls":9},{"$f":"\"Alterando o Custo Variável em \"&ROUND(C47,2)*100&\"%.\"","v":"Alterando o Custo Variável em -5%."}]
[null,null,"Alteração","Impacto",{"$nulls":5},{"$f":"\"Alterando as Despesas Fixas em \"&ROUND(H47,2)*100&\"%.\"","v":"Alterando as Despesas Fixas em -5%."}]
[null,"Preço",{"$f":"C19","v":{"v":0.05,"d":"5%"}},{"$f":"C29","v":{"$error":"#DIV/0!"}}]
[null,"Quantidade Vendida",{"$f":"H19","v":{"v":0.05,"d":"5%"}},{"$f":"H29","v":{"$error":"#DIV/0!"}}]
[null,"Custo Variável",{"$f":"C47","v":{"v":-0.05,"d":"-5%"}},{"$f":"C56","v":{"$error":"#DIV/0!"}}]
[null,"Despesa Fixa",{"$f":"H47","v":{"v":-0.05,"d":"-5%"}},{"$f":"H56","v":{"$error":"#DIV/0!"}}]
[]
[null,"Novo Ponto de Equilíbrio"]
[]
[]
[null,null,"Base","TURBINADO"]
[null,"Ponto de Equilíbrio",{"$f":"'Cálculo PE'!E13","v":{"$error":"#DIV/0!"}},{"$f":"C80/D79","v":{"$error":"#DIV/0!"}}]
[null,"Faturamento Ideal",{"$f":"'Cálculo PE'!H13","v":"Não disponível nesta versão"},{"$f":"C80/(D79-'Cálculo PE'!H12)","v":{"$error":"#DIV/0!"}}]
{"$rows_empty":8}
[{"$nulls":4},{"$f":"\"*\"&'Cálculo PE'!H12*100&\"% de lucro\"","v":"*15% de lucro"}]

{"sheet":"Simulação de Foco","index":8,"n_rows":102,"n_cols":17,"rows_kept":102}
["Simulação de Foco"]
[{"$nulls":11},{"$f":"SUMPRODUCT(J4:J100,L4:L100)/SUM(L4:L100)","v":{"$error":"#DIV/0!"}},null,{"$f":"'Preços e Custos'!J2","v":{"v":0,"d":"0.0%"}}]
["Cód. Prod / Serviço","Produto ou Serviço","Preço de Venda","Custo Variável Direto","Valor Percentuais sobre venda",{"$nulls":3},"Margem de Contribuição","% Margem de Contribuição",null,"Nova Proporção de faturamento",{"$f":"SUM(L4:L100)","v":{"v":0,"d":"0.0%"}},"Proporção de faturamento Normal","mínimo","máximo",{"$f":"SUM(N4:N100)","v":{"v":1,"d":"100.0%"}}]
[{"$f":"IF('Preços e Custos'!A4=\"\",\"\",'Preços e Custos'!A4)","v":""},{"$f":"IF('Preços e Custos'!B4=\"\",\"\",'Preços e Custos'!B4)","v":""},{"$f":"IF('Preços e Custos'!C4=\"\",\"\",'Preços e Custos'!C4)","v":""},{"$f":"IF('Preços e Custos'!D4=\"\",\"\",'Preços e Custos'!D4)","v":""},{"$f":"IF('Preços e Custos'!E4=\"\",\"\",'Preços e Custos'!E4)","v":""},{"$f":"IF('Preços e Custos'!F4=\"\",\"\",'Preços e Custos'!F4)","v":""},null,null,{"$f":"IF('Preços e Custos'!I4=\"\",\"\",'Preços e Custos'!I4)","v":""},{"$f":"IF('Preços e Custos'!J4=\"\",\"\",'Preços e Custos'!J4)","v":""},{"$nulls":3},{"$f":"IF('Preços e Custos'!L4=\"\",\"\",'Preços e Custos'!L4)","v":{"v":0.5,"d":"50.0%"}},{"$f":"'Preços e Custos'!L4*0.75","v":{"v":0.375,"d":"38%"}},{"$f":"'Preços e Custos'!L4*1.25","v":{"v":0.625,"d":"63%"}}]
[{"$f":"IF('Preços e Custos'!A5=\"\",\"\",'Preços e Custos'!A5)","v":""},{"$f":"IF('Preços e Custos'!B5=\"\",\"\",'Preços e Custos'!B5)","v":""},{"$f":"IF('Preços e Custos'!C5=\"\",\"\",'Preços e Custos'!C5)","v":""},{"$f":"IF('Preços e Custos'!D5=\"\",\"\",'Preços e Custos'!D5)","v":""},{"$f":"IF('Preços e Custos'!E5=\"\",\"\",'Preços e Custos'!E5)","v":""},{"$f":"IF('Preços e Custos'!F5=\"\",\"\",'Preços e Custos'!F5)","v":""},null,null,{"$f":"IF('Preços e Custos'!I5=\"\",\"\",'Preços e Custos'!I5)","v":""},{"$f":"IF('Preços e Custos'!J5=\"\",\"\",'Preços e Custos'!J5)","v":""},{"$nulls":3},{"$f":"IF('Preços e Custos'!L5=\"\",\"\",'Preços e Custos'!L5)","v":{"v":0.5,"d":"50.0%"}},{"$f":"'Preços e Custos'!L5*0.75","v":{"v":0.375,"d":"38%"}},{"$f":"'Preços e Custos'!L5*1.25","v":{"v":0.625,"d":"63%"}}]
[{"$f":"IF('Preços e Custos'!A6=\"\",\"\",'Preços e Custos'!A6)","v":""},{"$f":"IF('Preços e Custos'!B6=\"\",\"\",'Preços e Custos'!B6)","v":""},{"$f":"IF('Preços e Custos'!C6=\"\",\"\",'Preços e Custos'!C6)","v":""},{"$f":"IF('Preços e Custos'!D6=\"\",\"\",'Preços e Custos'!D6)","v":""},{"$f":"IF('Preços e Custos'!E6=\"\",\"\",'Preços e Custos'!E6)","v":""},{"$f":"IF('Preços e Custos'!F6=\"\",\"\",'Preços e Custos'!F6)","v":""},null,null,{"$f":"IF('Preços e Custos'!I6=\"\",\"\",'Preços e Custos'!I6)","v":""},{"$f":"IF('Preços e Custos'!J6=\"\",\"\",'Preços e Custos'!J6)","v":""},{"$nulls":3},{"$f":"IF('Preços e Custos'!L6=\"\",\"\",'Preços e Custos'!L6)","v":""},{"$f":"'Preços e Custos'!L6*0.75","v":{"v":0,"d":"0%"}},{"$f":"'Preços e Custos'!L6*1.25","v":{"v":0,"d":"0%"}}]
[{"$f":"IF('Preços e Custos'!A7=\"\",\"\",'Preços e Custos'!A7)","v":""},{"$f":"IF('Preços e Custos'!B7=\"\",\"\",'Preços e Custos'!B7)","v":""},{"$f":"IF('Preços e Custos'!C7=\"\",\"\",'Preços e Custos'!C7)","v":""},{"$f":"IF('Preços e Custos'!D7=\"\",\"\",'Preços e Custos'!D7)","v":""},{"$f":"IF('Preços e Custos'!E7=\"\",\"\",'Preços e Custos'!E7)","v":""},{"$f":"IF('Preços e Custos'!F7=\"\",\"\",'Preços e Custos'!F7)","v":""},null,null,{"$f":"IF('Preços e Custos'!I7=\"\",\"\",'Preços e Custos'!I7)","v":""},{"$f":"IF('Preços e Custos'!J7=\"\",\"\",'Preços e Custos'!J7)","v":""},{"$nulls":3},{"$f":"IF('Preços e Custos'!L7=\"\",\"\",'Preços e Custos'!L7)","v":""},{"$f":"'Preços e Custos'!L7*0.75","v":{"v":0,"d":"0%"}},{"$f":"'Preços e Custos'!L7*1.25","v":{"v":0,"d":"0%"}}]
[{"$f":"IF('Preços e Custos'!A8=\"\",\"\",'Preços e Custos'!A8)","v":""},{"$f":"IF('Preços e Custos'!B8=\"\",\"\",'Preços e Custos'!B8)","v":""},{"$f":"IF('Preços e Custos'!C8=\"\",\"\",'Preços e Custos'!C8)","v":""},{"$f":"IF('Preços e Custos'!D8=\"\",\"\",'Preços e Custos'!D8)","v":""},{"$f":"IF('Preços e Custos'!E8=\"\",\"\",'Preços e Custos'!E8)","v":""},{"$f":"IF('Preços e Custos'!F8=\"\",\"\",'Preços e Custos'!F8)","v":""},null,null,{"$f":"IF('Preços e Custos'!I8=\"\",\"\",'Preços e Custos'!I8)","v":""},{"$f":"IF('Preços e Custos'!J8=\"\",\"\",'Preços e Custos'!J8)","v":""},{"$nulls":3},{"$f":"IF('Preços e Custos'!L8=\"\",\"\",'Preços e Custos'!L8)","v":""},{"$f":"'Preços e Custos'!L8*0.75","v":{"v":0,"d":"0%"}},{"$f":"'Preços e Custos'!L8*1.25","v":{"v":0,"d":"0%"}}]
[{"$f":"IF('Preços e Custos'!A9=\"\",\"\",'Preços e Custos'!A9)","v":""},{"$f":"IF('Preços e Custos'!B9=\"\",\"\",'Preços e Custos'!B9)","v":""},{"$f":"IF('Preços e Custos'!C9=\"\",\"\",'Preços e Custos'!C9)","v":""},{"$f":"IF('Preços e Custos'!D9=\"\",\"\",'Preços e Custos'!D9)","v":""},{"$f":"IF('Preços e Custos'!E9=\"\",\"\",'Preços e Custos'!E9)","v":""},{"$f":"IF('Preços e Custos'!F9=\"\",\"\",'Preços e Custos'!F9)","v":""},null,null,{"$f":"IF('Preços e Custos'!I9=\"\",\"\",'Preços e Custos'!I9)","v":""},{"$f":"IF('Preços e Custos'!J9=\"\",\"\",'Preços e Custos'!J9)","v":""},{"$nulls":3},{"$f":"IF('Preços e Custos'!L9=\"\",\"\",'Preços e Custos'!L9)","v":""},{"$f":"'Preços e Custos'!L9*0.75","v":{"v":0,"d":"0%"}},{"$f":"'Preços e Custos'!L9*1.25","v":{"v":0,"d":"0%"}}]
[{"$f":"IF('Preços e Custos'!A10=\"\",\"\",'Preços e Custos'!A10)","v":""},{"$f":"IF('Preços e Custos'!B10=\"\",\"\",'Preços e Custos'!B10)","v":""},{"$f":"IF('Preços e Custos'!C10=\"\",\"\",'Preços e Custos'!C10)","v":""},{"$f":"IF('Preços e Custos'!D10=\"\",\"\",'Preços e Custos'!D10)","v":""},{"$f":"IF('Preços e Custos'!E10=\"\",\"\",'Preços e Custos'!E10)","v":""},{"$f":"IF('Preços e Custos'!F10=\"\",\"\",'Preços e Custos'!F10)","v":""},null,null,{"$f":"IF('Preços e Custos'!I10=\"\",\"\",'Preços e Custos'!I10)","v":""},{"$f":"IF('Preços e Custos'!J10=\"\",\"\",'Preços e Custos'!J10)","v":""},{"$nulls":3},{"$f":"IF('Preços e Custos'!L10=\"\",\"\",'Preços e Custos'!L10)","v":""},{"$f":"'Preços e Custos'!L10*0.75","v":{"v":0,"d":"0%"}},{"$f":"'Preços e Custos'!L10*1.25","v":{"v":0,"d":"0%"}}]
[{"$f":"IF('Preços e Custos'!A11=\"\",\"\",'Preços e Custos'!A11)","v":""},{"$f":"IF('Preços e Custos'!B11=\"\",\"\",'Preços e Custos'!B11)","v":""},{"$f":"IF('Preços e Custos'!C11=\"\",\"\",'Preços e Custos'!C11)","v":""},{"$f":"IF('Preços e Custos'!D11=\"\",\"\",'Preços e Custos'!D11)","v":""},{"$f":"IF('Preços e Custos'!E11=\"\",\"\",'Preços e Custos'!E11)","v":""},{"$f":"IF('Preços e Custos'!F11=\"\",\"\",'Preços e Custos'!F11)","v":""},null,null,{"$f":"IF('Preços e Custos'!I11=\"\",\"\",'Preços e Custos'!I11)","v":""},{"$f":"IF('Preços e Custos'!J11=\"\",\"\",'Preços e Custos'!J11)","v":""},{"$nulls":3},{"$f":"IF('Preços e Custos'!L11=\"\",\"\",'Preços e Custos'!L11)","v":""},{"$f":"'Preços e Custos'!L11*0.75","v":{"v":0,"d":"0%"}},{"$f":"'Preços e Custos'!L11*1.25","v":{"v":0,"d":"0%"}}]
[{"$f":"IF('Preços e Custos'!A12=\"\",\"\",'Preços e Custos'!A12)","v":""},{"$f":"IF('Preços e Custos'!B12=\"\",\"\",'Preços e Custos'!B12)","v":""},{"$f":"IF('Preços e Custos'!C12=\"\",\"\",'Preços e Custos'!C12)","v":""},{"$f":"IF('Preços e Custos'!D12=\"\",\"\",'Preços e Custos'!D12)","v":""},{"$f":"IF('Preços e Custos'!E12=\"\",\"\",'Preços e Custos'!E12)","v":""},{"$f":"IF('Preços e Custos'!F12=\"\",\"\",'Preços e Custos'!F12)","v":""},null,null,{"$f":"IF('Preços e Custos'!I12=\"\",\"\",'Preços e Custos'!I12)","v":""},{"$f":"IF('Preços e Custos'!J12=\"\",\"\",'Preços e Custos'!J12)","v":""},{"$nulls":3},{"$f":"IF('Preços e Custos'!L12=\"\",\"\",'Preços e Custos'!L12)","v":""},{"$f":"'Preços e Custos'!L12*0.75","v":{"v":0,"d":"0%"}},{"$f":"'Preços e Custos'!L12*1.25","v":{"v":0,"d":"0%"}}]
[{"$f":"IF('Preços e Custos'!A13=\"\",\"\",'Preços e Custos'!A13)","v":""},{"$f":"IF('Preços e Custos'!B13=\"\",\"\",'Preços e Custos'!B13)","v":""},{"$f":"IF('Preços e Custos'!C13=\"\",\"\",'Preços e Custos'!C13)","v":""},{"$f":"IF('Preços e Custos'!D13=\"\",\"\",'Preços e Custos'!D13)","v":""},{"$f":"IF('Preços e Custos'!E13=\"\",\"\",'Preços e Custos'!E13)","v":""},{"$f":"IF('Preços e Custos'!F13=\"\",\"\",'Preços e Custos'!F13)","v":""},null,null,{"$f":"IF('Preços e Custos'!I13=\"\",\"\",'Preços e Custos'!I13)","v":""},{"$f":"IF('Preços e Custos'!J13=\"\",\"\",'Preços e Custos'!J13)","v":""},{"$nulls":3},{"$f":"IF('Preços e Custos'!L13=\"\",\"\",'Preços e Custos'!L13)","v":""},{"$f":"'Preços e Custos'!L13*0.75","v":{"v":0,"d":"0%"}},{"$f":"'Preços e Custos'!L13*1.25","v":{"v":0,"d":"0%"}}]
[{"$f":"IF('Preços e Custos'!A14=\"\",\"\",'Preços e Custos'!A14)","v":""},{"$f":"IF('Preços e Custos'!B14=\"\",\"\",'Preços e Custos'!B14)","v":""},{"$f":"IF('Preços e Custos'!C14=\"\",\"\",'Preços e Custos'!C14)","v":""},{"$f":"IF('Preços e Custos'!D14=\"\",\"\",'Preços e Custos'!D14)","v":""},{"$f":"IF('Preços e Custos'!E14=\"\",\"\",'Preços e Custos'!E14)","v":""},{"$f":"IF('Preços e Custos'!F14=\"\",\"\",'Preços e Custos'!F14)","v":""},null,null,{"$f":"IF('Preços e Custos'!I14=\"\",\"\",'Preços e Custos'!I14)","v":""},{"$f":"IF('Preços e Custos'!J14=\"\",\"\",'Preços e Custos'!J14)","v":""},{"$nulls":3},{"$f":"IF('Preços e Custos'!L14=\"\",\"\",'Preços e Custos'!L14)","v":""},{"$f":"'Preços e Custos'!L14*0.75","v":{"v":0,"d":"0%"}},{"$f":"'Preços e Custos'!L14*1.25","v":{"v":0,"d":"0%"}}]
[{"$f":"IF('Preços e Custos'!A15=\"\",\"\",'Preços e Custos'!A15)","v":""},{"$f":"IF('Preços e Custos'!B15=\"\",\"\",'Preços e Custos'!B15)","v":""},{"$f":"IF('Preços e Custos'!C15=\"\",\"\",'Preços e Custos'!C15)","v":""},{"$f":"IF('Preços e Custos'!D15=\"\",\"\",'Preços e Custos'!D15)","v":""},{"$f":"IF('Preços e Custos'!E15=\"\",\"\",'Preços e Custos'!E15)","v":""},{"$f":"IF('Preços e Custos'!F15=\"\",\"\",'Preços e Custos'!F15)","v":""},null,null,{"$f":"IF('Preços e Custos'!I15=\"\",\"\",'Preços e Custos'!I15)","v":""},{"$f":"IF('Preços e Custos'!J15=\"\",\"\",'Preços e Custos'!J15)","v":""},{"$nulls":3},{"$f":"IF('Preços e Custos'!L15=\"\",\"\",'Preços e Custos'!L15)","v":""},{"$f":"'Preços e Custos'!L15*0.75","v":{"v":0,"d":"0%"}},{"$f":"'Preços e Custos'!L15*1.25","v":{"v":0,"d":"0%"}}]
[{"$f":"IF('Preços e Custos'!A16=\"\",\"\",'Preços e Custos'!A16)","v":""},{"$f":"IF('Preços e Custos'!B16=\"\",\"\",'Preços e Custos'!B16)","v":""},{"$f":"IF('Preços e Custos'!C16=\"\",\"\",'Preços e Custos'!C16)","v":""},{"$f":"IF('Preços e Custos'!D16=\"\",\"\",'Preços e Custos'!D16)","v":""},{"$f":"IF('Preços e Custos'!E16=\"\",\"\",'Preços e Custos'!E16)","v":""},{"$f":"IF('Preços e Custos'!F16=\"\",\"\",'Preços e Custos'!F16)","v":""},null,null,{"$f":"IF('Preços e Custos'!I16=\"\",\"\",'Preços e Custos'!I16)","v":""},{"$f":"IF('Preços e Custos'!J16=\"\",\"\",'Preços e Custos'!J16)","v":""},{"$nulls":3},{"$f":"IF('Preços e Custos'!L16=\"\",\"\",'Preços e Custos'!L16)","v":""},{"$f":"'Preços e Custos'!L16*0.75","v":{"v":0,"d":"0%"}},{"$f":"'Preços e Custos'!L16*1.25","v":{"v":0,"d":"0%"}}]
[{"$f":"IF('Preços e Custos'!A17=\"\",\"\",'Preços e Custos'!A17)","v":""},{"$f":"IF('Preços e Custos'!B17=\"\",\"\",'Preços e Custos'!B17)","v":""},{"$f":"IF('Preços e Custos'!C17=\"\",\"\",'Preços e Custos'!C17)","v":""},{"$f":"IF('Preços e Custos'!D17=\"\",\"\",'Preços e Custos'!D17)","v":""},{"$f":"IF('Preços e Custos'!E17=\"\",\"\",'Preços e Custos'!E17)","v":""},{"$f":"IF('Preços e Custos'!F17=\"\",\"\",'Preços e Custos'!F17)","v":""},null,null,{"$f":"IF('Preços e Custos'!I17=\"\",\"\",'Preços e Custos'!I17)","v":""},{"$f":"IF('Preços e Custos'!J17=\"\",\"\",'Preços e Custos'!J17)","v":""},{"$nulls":3},{"$f":"IF('Preços e Custos'!L17=\"\",\"\",'Preços e Custos'!L17)","v":""},{"$f":"'Preços e Custos'!L17*0.75","v":{"v":0,"d":"0%"}},{"$f":"'Preços e Custos'!L17*1.25","v":{"v":0,"d":"0%"}}]
[{"$f":"IF('Preços e Custos'!A18=\"\",\"\",'Preços e Custos'!A18)","v":""},{"$f":"IF('Preços e Custos'!B18=\"\",\"\",'Preços e Custos'!B18)","v":""},{"$f":"IF('Preços e Custos'!C18=\"\",\"\",'Preços e Custos'!C18)","v":""},{"$f":"IF('Preços e Custos'!D18=\"\",\"\",'Preços e Custos'!D18)","v":""},{"$f":"IF('Preços e Custos'!E18=\"\",\"\",'Preços e Custos'!E18)","v":""},{"$f":"IF('Preços e Custos'!F18=\"\",\"\",'Preços e Custos'!F18)","v":""},null,null,{"$f":"IF('Preços e Custos'!I18=\"\",\"\",'Preços e Custos'!I18)","v":""},{"$f":"IF('Preços e Custos'!J18=\"\",\"\",'Preços e Custos'!J18)","v":""},{"$nulls":3},{"$f":"IF('Preços e Custos'!L18=\"\",\"\",'Preços e Custos'!L18)","v":""},{"$f":"'Preços e Custos'!L18*0.75","v":{"v":0,"d":"0%"}},{"$f":"'Preços e Custos'!L18*1.25","v":{"v":0,"d":"0%"}}]
[{"$f":"IF('Preços e Custos'!A19=\"\",\"\",'Preços e Custos'!A19)","v":""},{"$f":"IF('Preços e Custos'!B19=\"\",\"\",'Preços e Custos'!B19)","v":""},{"$f":"IF('Preços e Custos'!C19=\"\",\"\",'Preços e Custos'!C19)","v":""},{"$f":"IF('Preços e Custos'!D19=\"\",\"\",'Preços e Custos'!D19)","v":""},{"$f":"IF('Preços e Custos'!E19=\"\",\"\",'Preços e Custos'!E19)","v":""},{"$f":"IF('Preços e Custos'!F19=\"\",\"\",'Preços e Custos'!F19)","v":""},null,null,{"$f":"IF('Preços e Custos'!I19=\"\",\"\",'Preços e Custos'!I19)","v":""},{"$f":"IF('Preços e Custos'!J19=\"\",\"\",'Preços e Custos'!J19)","v":""},{"$nulls":3},{"$f":"IF('Preços e Custos'!L19=\"\",\"\",'Preços e Custos'!L19)","v":""},{"$f":"'Preços e Custos'!L19*0.75","v":{"v":0,"d":"0%"}},{"$f":"'Preços e Custos'!L19*1.25","v":{"v":0,"d":"0%"}}]
[{"$f":"IF('Preços e Custos'!A20=\"\",\"\",'Preços e Custos'!A20)","v":""},{"$f":"IF('Preços e Custos'!B20=\"\",\"\",'Preços e Custos'!B20)","v":""},{"$f":"IF('Preços e Custos'!C20=\"\",\"\",'Preços e Custos'!C20)","v":""},{"$f":"IF('Preços e Custos'!D20=\"\",\"\",'Preços e Custos'!D20)","v":""},{"$f":"IF('Preços e Custos'!E20=\"\",\"\",'Preços e Custos'!E20)","v":""},{"$f":"IF('Preços e Custos'!F20=\"\",\"\",'Preços e Custos'!F20)","v":""},null,null,{"$f":"IF('Preços e Custos'!I20=\"\",\"\",'Preços e Custos'!I20)","v":""},{"$f":"IF('Preços e Custos'!J20=\"\",\"\",'Preços e Custos'!J20)","v":""},{"$nulls":3},{"$f":"IF('Preços e Custos'!L20=\"\",\"\",'Preços e Custos'!L20)","v":""},{"$f":"'Preços e Custos'!L20*0.75","v":{"v":0,"d":"0%"}},{"$f":"'Preços e Custos'!L20*1.25","v":{"v":0,"d":"0%"}}]
[{"$f":"IF('Preços e Custos'!A21=\"\",\"\",'Preços e Custos'!A21)","v":""},{"$f":"IF('Preços e Custos'!B21=\"\",\"\",'Preços e Custos'!B21)","v":""},{"$f":"IF('Preços e Custos'!C21=\"\",\"\",'Preços e Custos'!C21)","v":""},{"$f":"IF('Preços e Custos'!D21=\"\",\"\",'Preços e Custos'!D21)","v":""},{"$f":"IF('Preços e Custos'!E21=\"\",\"\",'Preços e Custos'!E21)","v":""},{"$f":"IF('Preços e Custos'!F21=\"\",\"\",'Preços e Custos'!F21)","v":""},null,null,{"$f":"IF('Preços e Custos'!I21=\"\",\"\",'Preços e Custos'!I21)","v":""},{"$f":"IF('Preços e Custos'!J21=\"\",\"\",'Preços e Custos'!J21)","v":""},{"$nulls":3},{"$f":"IF('Preços e Custos'!L21=\"\",\"\",'Preços e Custos'!L21)","v":""},{"$f":"'Preços e Custos'!L21*0.75","v":{"v":0,"d":"0%"}},{"$f":"'Preços e Custos'!L21*1.25","v":{"v":0,"d":"0%"}}]
[{"$f":"IF('Preços e Custos'!A22=\"\",\"\",'Preços e Custos'!A22)","v":""},{"$f":"IF('Preços e Custos'!B22=\"\",\"\",'Preços e Custos'!B22)","v":""},{"$f":"IF('Preços e Custos'!C22=\"\",\"\",'Preços e Custos'!C22)","v":""},{"$f":"IF('Preços e Custos'!D22=\"\",\"\",'Preços e Custos'!D22)","v":""},{"$f":"IF('Preços e Custos'!E22=\"\",\"\",'Preços e Custos'!E22)","v":""},{"$f":"IF('Preços e Custos'!F22=\"\",\"\",'Preços e Custos'!F22)","v":""},null,null,{"$f":"IF('Preços e Custos'!I22=\"\",\"\",'Preços e Custos'!I22)","v":""},{"$f":"IF('Preços e Custos'!J22=\"\",\"\",'Preços e Custos'!J22)","v":""},{"$nulls":3},{"$f":"IF('Preços e Custos'!L22=\"\",\"\",'Preços e Custos'!L22)","v":""},{"$f":"'Preços e Custos'!L22*0.75","v":{"v":0,"d":"0%"}},{"$f":"'Preços e Custos'!L22*1.25","v":{"v":0,"d":"0%"}}]
[{"$f":"IF('Preços e Custos'!A23=\"\",\"\",'Preços e Custos'!A23)","v":""},{"$f":"IF('Preços e Custos'!B23=\"\",\"\",'Preços e Custos'!B23)","v":""},{"$f":"IF('Preços e Custos'!C23=\"\",\"\",'Preços e Custos'!C23)","v":""},{"$f":"IF('Preços e Custos'!D23=\"\",\"\",'Preços e Custos'!D23)","v":""},{"$f":"IF('Preços e Custos'!E23=\"\",\"\",'Preços e Custos'!E23)","v":""},{"$f":"IF('Preços e Custos'!F23=\"\",\"\",'Preços e Custos'!F23)","v":""},null,null,{"$f":"IF('Preços e Custos'!I23=\"\",\"\",'Preços e Custos'!I23)","v":""},{"$f":"IF('Preços e Custos'!J23=\"\",\"\",'Preços e Custos'!J23)","v":""},{"$nulls":3},{"$f":"IF('Preços e Custos'!L23=\"\",\"\",'Preços e Custos'!L23)","v":""}]
[{"$f":"IF('Preços e Custos'!A24=\"\",\"\",'Preços e Custos'!A24)","v":""},{"$f":"IF('Preços e Custos'!B24=\"\",\"\",'Preços e Custos'!B24)","v":""},{"$f":"IF('Preços e Custos'!C24=\"\",\"\",'Preços e Custos'!C24)","v":""},{"$f":"IF('Preços e Custos'!D24=\"\",\"\",'Preços e Custos'!D24)","v":""},{"$f":"IF('Preços e Custos'!E24=\"\",\"\",'Preços e Custos'!E24)","v":""},{"$f":"IF('Preços e Custos'!F24=\"\",\"\",'Preços e Custos'!F24)","v":""},null,null,{"$f":"IF('Preços e Custos'!I24=\"\",\"\",'Preços e Custos'!I24)","v":""},{"$f":"IF('Preços e Custos'!J24=\"\",\"\",'Preços e Custos'!J24)","v":""},{"$nulls":3},{"$f":"IF('Preços e Custos'!L24=\"\",\"\",'Preços e Custos'!L24)","v":""}]
[{"$f":"IF('Preços e Custos'!A25=\"\",\"\",'Preços e Custos'!A25)","v":""},{"$f":"IF('Preços e Custos'!B25=\"\",\"\",'Preços e Custos'!B25)","v":""},{"$f":"IF('Preços e Custos'!C25=\"\",\"\",'Preços e Custos'!C25)","v":""},{"$f":"IF('Preços e Custos'!D25=\"\",\"\",'Preços e Custos'!D25)","v":""},{"$f":"IF('Preços e Custos'!E25=\"\",\"\",'Preços e Custos'!E25)","v":""},{"$f":"IF('Preços e Custos'!F25=\"\",\"\",'Preços e Custos'!F25)","v":""},null,null,{"$f":"IF('Preços e Custos'!I25=\"\",\"\",'Preços e Custos'!I25)","v":""},{"$f":"IF('Preços e Custos'!J25=\"\",\"\",'Preços e Custos'!J25)","v":""},{"$nulls":3},{"$f":"IF('Preços e Custos'!L25=\"\",\"\",'Preços e Custos'!L25)","v":""}]
[{"$f":"IF('Preços e Custos'!A26=\"\",\"\",'Preços e Custos'!A26)","v":""},{"$f":"IF('Preços e Custos'!B26=\"\",\"\",'Preços e Custos'!B26)","v":""},{"$f":"IF('Preços e Custos'!C26=\"\",\"\",'Preços e Custos'!C26)","v":""},{"$f":"IF('Preços e Custos'!D26=\"\",\"\",'Preços e Custos'!D26)","v":""},{"$f":"IF('Preços e Custos'!E26=\"\",\"\",'Preços e Custos'!E26)","v":""},{"$f":"IF('Preços e Custos'!F26=\"\",\"\",'Preços e Custos'!F26)","v":""},null,null,{"$f":"IF('Preços e Custos'!I26=\"\",\"\",'Preços e Custos'!I26)","v":""},{"$f":"IF('Preços e Custos'!J26=\"\",\"\",'Preços e Custos'!J26)","v":""},{"$nulls":3},{"$f":"IF('Preços e Custos'!L26=\"\",\"\",'Preços e Custos'!L26)","v":""}]
[{"$f":"IF('Preços e Custos'!A27=\"\",\"\",'Preços e Custos'!A27)","v":""},{"$f":"IF('Preços e Custos'!B27=\"\",\"\",'Preços e Custos'!B27)","v":""},{"$f":"IF('Preços e Custos'!C27=\"\",\"\",'Preços e Custos'!C27)","v":""},{"$f":"IF('Preços e Custos'!D27=\"\",\"\",'Preços e Custos'!D27)","v":""},{"$f":"IF('Preços e Custos'!E27=\"\",\"\",'Preços e Custos'!E27)","v":""},{"$f":"IF('Preços e Custos'!F27=\"\",\"\",'Preços e Custos'!F27)","v":""},null,null,{"$f":"IF('Preços e Custos'!I27=\"\",\"\",'Preços e Custos'!I27)","v":""},{"$f":"IF('Preços e Custos'!J27=\"\",\"\",'Preços e Custos'!J27)","v":""},{"$nulls":3},{"$f":"IF('Preços e Custos'!L27=\"\",\"\",'Preços e Custos'!L27)","v":""}]
[{"$f":"IF('Preços e Custos'!A28=\"\",\"\",'Preços e Custos'!A28)","v":""},{"$f":"IF('Preços e Custos'!B28=\"\",\"\",'Preços e Custos'!B28)","v":""},{"$f":"IF('Preços e Custos'!C28=\"\",\"\",'Preços e Custos'!C28)","v":""},{"$f":"IF('Preços e Custos'!D28=\"\",\"\",'Preços e Custos'!D28)","v":""},{"$f":"IF('Preços e Custos'!E28=\"\",\"\",'Preços e Custos'!E28)","v":""},{"$f":"IF('Preços e Custos'!F28=\"\",\"\",'Preços e Custos'!F28)","v":""},null,null,{"$f":"IF('Preços e Custos'!I28=\"\",\"\",'Preços e Custos'!I28)","v":""},{"$f":"IF('Preços e Custos'!J28=\"\",\"\",'Preços e Custos'!J28)","v":""},{"$nulls":3},{"$f":"IF('Preços e Custos'!L28=\"\",\"\",'Preços e Custos'!L28)","v":""}]
[{"$f":"IF('Preços e Custos'!A29=\"\",\"\",'Preços e Custos'!A29)","v":""},{"$f":"IF('Preços e Custos'!B29=\"\",\"\",'Preços e Custos'!B29)","v":""},{"$f":"IF('Preços e Custos'!C29=\"\",\"\",'Preços e Custos'!C29)","v":""},{"$f":"IF('Preços e Custos'!D29=\"\",\"\",'Preços e Custos'!D29)","v":""},{"$f":"IF('Preços e Custos'!E29=\"\",\"\",'Preços e Custos'!E29)","v":""},{"$f":"IF('Preços e Custos'!F29=\"\",\"\",'Preços e Custos'!F29)","v":""},null,null,{"$f":"IF('Preços e Custos'!I29=\"\",\"\",'Preços e Custos'!I29)","v":""},{"$f":"IF('Preços e Custos'!J29=\"\",\"\",'Preços e Custos'!J29)","v":""},{"$nulls":3},{"$f":"IF('Preços e Custos'!L29=\"\",\"\",'Preços e Custos'!L29)","v":""}]
[{"$f":"IF('Preços e Custos'!A30=\"\",\"\",'Preços e Custos'!A30)","v":""},{"$f":"IF('Preços e Custos'!B30=\"\",\"\",'Preços e Custos'!B30)","v":""},{"$f":"IF('Preços e Custos'!C30=\"\",\"\",'Preços e Custos'!C30)","v":""},{"$f":"IF('Preços e Custos'!D30=\"\",\"\",'Preços e Custos'!D30)","v":""},{"$f":"IF('Preços e Custos'!E30=\"\",\"\",'Preços e Custos'!E30)","v":""},{"$f":"IF('Preços e Custos'!F30=\"\",\"\",'Preços e Custos'!F30)","v":""},null,null,{"$f":"IF('Preços e Custos'!I30=\"\",\"\",'Preços e Custos'!I30)","v":""},{"$f":"IF('Preços e Custos'!J30=\"\",\"\",'Preços e Custos'!J30)","v":""},{"$nulls":3},{"$f":"IF('Preços e Custos'!L30=\"\",\"\",'Preços e Custos'!L30)","v":""}]
[{"$f":"IF('Preços e Custos'!A31=\"\",\"\",'Preços e Custos'!A31)","v":""},{"$f":"IF('Preços e Custos'!B31=\"\",\"\",'Preços e Custos'!B31)","v":""},{"$f":"IF('Preços e Custos'!C31=\"\",\"\",'Preços e Custos'!C31)","v":""},{"$f":"IF('Preços e Custos'!D31=\"\",\"\",'Preços e Custos'!D31)","v":""},{"$f":"IF('Preços e Custos'!E31=\"\",\"\",'Preços e Custos'!E31)","v":""},{"$f":"IF('Preços e Custos'!F31=\"\",\"\",'Preços e Custos'!F31)","v":""},null,null,{"$f":"IF('Preços e Custos'!I31=\"\",\"\",'Preços e Custos'!I31)","v":""},{"$f":"IF('Preços e Custos'!J31=\"\",\"\",'Preços e Custos'!J31)","v":""},{"$nulls":3},{"$f":"IF('Preços e Custos'!L31=\"\",\"\",'Preços e Custos'!L31)","v":""}]
[{"$f":"IF('Preços e Custos'!A32=\"\",\"\",'Preços e Custos'!A32)","v":""},{"$f":"IF('Preços e Custos'!B32=\"\",\"\",'Preços e Custos'!B32)","v":""},{"$f":"IF('Preços e Custos'!C32=\"\",\"\",'Preços e Custos'!C32)","v":""},{"$f":"IF('Preços e Custos'!D32=\"\",\"\",'Preços e Custos'!D32)","v":""},{"$f":"IF('Preços e Custos'!E32=\"\",\"\",'Preços e Custos'!E32)","v":""},{"$f":"IF('Preços e Custos'!F32=\"\",\"\",'Preços e Custos'!F32)","v":""},null,null,{"$f":"IF('Preços e Custos'!I32=\"\",\"\",'Preços e Custos'!I32)","v":""},{"$f":"IF('Preços e Custos'!J32=\"\",\"\",'Preços e Custos'!J32)","v":""},{"$nulls":3},{"$f":"IF('Preços e Custos'!L32=\"\",\"\",'Preços e Custos'!L32)","v":""}]
[{"$f":"IF('Preços e Custos'!A33=\"\",\"\",'Preços e Custos'!A33)","v":""},{"$f":"IF('Preços e Custos'!B33=\"\",\"\",'Preços e Custos'!B33)","v":""},{"$f":"IF('Preços e Custos'!C33=\"\",\"\",'Preços e Custos'!C33)","v":""},{"$f":"IF('Preços e Custos'!D33=\"\",\"\",'Preços e Custos'!D33)","v":""},{"$f":"IF('Preços e Custos'!E33=\"\",\"\",'Preços e Custos'!E33)","v":""},{"$f":"IF('Preços e Custos'!F33=\"\",\"\",'Preços e Custos'!F33)","v":""},null,null,{"$f":"IF('Preços e Custos'!I33=\"\",\"\",'Preços e Custos'!I33)","v":""},{"$f":"IF('Preços e Custos'!J33=\"\",\"\",'Preços e Custos'!J33)","v":""},{"$nulls":3},{"$f":"IF('Preços e Custos'!L33=\"\",\"\",'Preços e Custos'!L33)","v":""}]
[{"$f":"IF('Preços e Custos'!A34=\"\",\"\",'Preços e Custos'!A34)","v":""},{"$f":"IF('Preços e Custos'!B34=\"\",\"\",'Preços e Custos'!B34)","v":""},{"$f":"IF('Preços e Custos'!C34=\"\",\"\",'Preços e Custos'!C34)","v":""},{"$f":"IF('Preços e Custos'!D34=\"\",\"\",'Preços e Custos'!D34)","v":""},{"$f":"IF('Preços e Custos'!E34=\"\",\"\",'Preços e Custos'!E34)","v":""},{"$f":"IF('Preços e Custos'!F34=\"\",\"\",'Preços e Custos'!F34)","v":""},null,null,{"$f":"IF('Preços e Custos'!I34=\"\",\"\",'Preços e Custos'!I34)","v":""},{"$f":"IF('Preços e Custos'!J34=\"\",\"\",'Preços e Custos'!J34)","v":""},{"$nulls":3},{"$f":"IF('Preços e Custos'!L34=\"\",\"\",'Preços e Custos'!L34)","v":""}]
[{"$f":"IF('Preços e Custos'!A35=\"\",\"\",'Preços e Custos'!A35)","v":""},{"$f":"IF('Preços e Custos'!B35=\"\",\"\",'Preços e Custos'!B35)","v":""},{"$f":"IF('Preços e Custos'!C35=\"\",\"\",'Preços e Custos'!C35)","v":""},{"$f":"IF('Preços e Custos'!D35=\"\",\"\",'Preços e Custos'!D35)","v":""},{"$f":"IF('Preços e Custos'!E35=\"\",\"\",'Preços e Custos'!E35)","v":""},{"$f":"IF('Preços e Custos'!F35=\"\",\"\",'Preços e Custos'!F35)","v":""},null,null,{"$f":"IF('Preços e Custos'!I35=\"\",\"\",'Preços e Custos'!I35)","v":""},{"$f":"IF('Preços e Custos'!J35=\"\",\"\",'Preços e Custos'!J35)","v":""},{"$nulls":3},{"$f":"IF('Preços e Custos'!L35=\"\",\"\",'Preços e Custos'!L35)","v":""}]
[{"$f":"IF('Preços e Custos'!A36=\"\",\"\",'Preços e Custos'!A36)","v":""},{"$f":"IF('Preços e Custos'!B36=\"\",\"\",'Preços e Custos'!B36)","v":""},{"$f":"IF('Preços e Custos'!C36=\"\",\"\",'Preços e Custos'!C36)","v":""},{"$f":"IF('Preços e Custos'!D36=\"\",\"\",'Preços e Custos'!D36)","v":""},{"$f":"IF('Preços e Custos'!E36=\"\",\"\",'Preços e Custos'!E36)","v":""},{"$f":"IF('Preços e Custos'!F36=\"\",\"\",'Preços e Custos'!F36)","v":""},null,null,{"$f":"IF('Preços e Custos'!I36=\"\",\"\",'Preços e Custos'!I36)","v":""},{"$f":"IF('Preços e Custos'!J36=\"\",\"\",'Preços e Custos'!J36)","v":""},{"$nulls":3},{"$f":"IF('Preços e Custos'!L36=\"\",\"\",'Preços e Custos'!L36)","v":""}]
[{"$f":"IF('Preços e Custos'!A37=\"\",\"\",'Preços e Custos'!A37)","v":""},{"$f":"IF('Preços e Custos'!B37=\"\",\"\",'Preços e Custos'!B37)","v":""},{"$f":"IF('Preços e Custos'!C37=\"\",\"\",'Preços e Custos'!C37)","v":""},{"$f":"IF('Preços e Custos'!D37=\"\",\"\",'Preços e Custos'!D37)","v":""},{"$f":"IF('Preços e Custos'!E37=\"\",\"\",'Preços e Custos'!E37)","v":""},{"$f":"IF('Preços e Custos'!F37=\"\",\"\",'Preços e Custos'!F37)","v":""},null,null,{"$f":"IF('Preços e Custos'!I37=\"\",\"\",'Preços e Custos'!I37)","v":""},{"$f":"IF('Preços e Custos'!J37=\"\",\"\",'Preços e Custos'!J37)","v":""},{"$nulls":3},{"$f":"IF('Preços e Custos'!L37=\"\",\"\",'Preços e Custos'!L37)","v":""}]
[{"$f":"IF('Preços e Custos'!A38=\"\",\"\",'Preços e Custos'!A38)","v":""},{"$f":"IF('Preços e Custos'!B38=\"\",\"\",'Preços e Custos'!B38)","v":""},{"$f":"IF('Preços e Custos'!C38=\"\",\"\",'Preços e Custos'!C38)","v":""},{"$f":"IF('Preços e Custos'!D38=\"\",\"\",'Preços e Custos'!D38)","v":""},{"$f":"IF('Preços e Custos'!E38=\"\",\"\",'Preços e Custos'!E38)","v":""},{"$f":"IF('Preços e Custos'!F38=\"\",\"\",'Preços e Custos'!F38)","v":""},null,null,{"$f":"IF('Preços e Custos'!I38=\"\",\"\",'Preços e Custos'!I38)","v":""},{"$f":"IF('Preços e Custos'!J38=\"\",\"\",'Preços e Custos'!J38)","v":""},{"$nulls":3},{"$f":"IF('Preços e Custos'!L38=\"\",\"\",'Preços e Custos'!L38)","v":""}]
[{"$f":"IF('Preços e Custos'!A39=\"\",\"\",'Preços e Custos'!A39)","v":""},{"$f":"IF('Preços e Custos'!B39=\"\",\"\",'Preços e Custos'!B39)","v":""},{"$f":"IF('Preços e Custos'!C39=\"\",\"\",'Preços e Custos'!C39)","v":""},{"$f":"IF('Preços e Custos'!D39=\"\",\"\",'Preços e Custos'!D39)","v":""},{"$f":"IF('Preços e Custos'!E39=\"\",\"\",'Preços e Custos'!E39)","v":""},{"$f":"IF('Preços e Custos'!F39=\"\",\"\",'Preços e Custos'!F39)","v":""},null,null,{"$f":"IF('Preços e Custos'!I39=\"\",\"\",'Preços e Custos'!I39)","v":""},{"$f":"IF('Preços e Custos'!J39=\"\",\"\",'Preços e Custos'!J39)","v":""},{"$nulls":3},{"$f":"IF('Preços e Custos'!L39=\"\",\"\",'Preços e Custos'!L39)","v":""}]
[{"$f":"IF('Preços e Custos'!A40=\"\",\"\",'Preços e Custos'!A40)","v":""},{"$f":"IF('Preços e Custos'!B40=\"\",\"\",'Preços e Custos'!B40)","v":""},{"$f":"IF('Preços e Custos'!C40=\"\",\"\",'Preços e Custos'!C40)","v":""},{"$f":"IF('Preços e Custos'!D40=\"\",\"\",'Preços e Custos'!D40)","v":""},{"$f":"IF('Preços e Custos'!E40=\"\",\"\",'Preços e Custos'!E40)","v":""},{"$f":"IF('Preços e Custos'!F40=\"\",\"\",'Preços e Custos'!F40)","v":""},null,null,{"$f":"IF('Preços e Custos'!I40=\"\",\"\",'Preços e Custos'!I40)","v":""},{"$f":"IF('Preços e Custos'!J40=\"\",\"\",'Preços e Custos'!J40)","v":""},{"$nulls":3},{"$f":"IF('Preços e Custos'!L40=\"\",\"\",'Preços e Custos'!L40)","v":""}]
[{"$f":"IF('Preços e Custos'!A41=\"\",\"\",'Preços e Custos'!A41)","v":""},{"$f":"IF('Preços e Custos'!B41=\"\",\"\",'Preços e Custos'!B41)","v":""},{"$f":"IF('Preços e Custos'!C41=\"\",\"\",'Preços e Custos'!C41)","v":""},{"$f":"IF('Preços e Custos'!D41=\"\",\"\",'Preços e Custos'!D41)","v":""},{"$f":"IF('Preços e Custos'!E41=\"\",\"\",'Preços e Custos'!E41)","v":""},{"$f":"IF('Preços e Custos'!F41=\"\",\"\",'Preços e Custos'!F41)","v":""},null,null,{"$f":"IF('Preços e Custos'!I41=\"\",\"\",'Preços e Custos'!I41)","v":""},{"$f":"IF('Preços e Custos'!J41=\"\",\"\",'Preços e Custos'!J41)","v":""},{"$nulls":3},{"$f":"IF('Preços e Custos'!L41=\"\",\"\",'Preços e Custos'!L41)","v":""}]
[{"$f":"IF('Preços e Custos'!A42=\"\",\"\",'Preços e Custos'!A42)","v":""},{"$f":"IF('Preços e Custos'!B42=\"\",\"\",'Preços e Custos'!B42)","v":""},{"$f":"IF('Preços e Custos'!C42=\"\",\"\",'Preços e Custos'!C42)","v":""},{"$f":"IF('Preços e Custos'!D42=\"\",\"\",'Preços e Custos'!D42)","v":""},{"$f":"IF('Preços e Custos'!E42=\"\",\"\",'Preços e Custos'!E42)","v":""},{"$f":"IF('Preços e Custos'!F42=\"\",\"\",'Preços e Custos'!F42)","v":""},null,null,{"$f":"IF('Preços e Custos'!I42=\"\",\"\",'Preços e Custos'!I42)","v":""},{"$f":"IF('Preços e Custos'!J42=\"\",\"\",'Preços e Custos'!J42)","v":""},{"$nulls":3},{"$f":"IF('Preços e Custos'!L42=\"\",\"\",'Preços e Custos'!L42)","v":""}]
[{"$f":"IF('Preços e Custos'!A43=\"\",\"\",'Preços e Custos'!A43)","v":""},{"$f":"IF('Preços e Custos'!B43=\"\",\"\",'Preços e Custos'!B43)","v":""},{"$f":"IF('Preços e Custos'!C43=\"\",\"\",'Preços e Custos'!C43)","v":""},{"$f":"IF('Preços e Custos'!D43=\"\",\"\",'Preços e Custos'!D43)","v":""},{"$f":"IF('Preços e Custos'!E43=\"\",\"\",'Preços e Custos'!E43)","v":""},{"$f":"IF('Preços e Custos'!F43=\"\",\"\",'Preços e Custos'!F43)","v":""},null,null,{"$f":"IF('Preços e Custos'!I43=\"\",\"\",'Preços e Custos'!I43)","v":""},{"$f":"IF('Preços e Custos'!J43=\"\",\"\",'Preços e Custos'!J43)","v":""},{"$nulls":3},{"$f":"IF('Preços e Custos'!L43=\"\",\"\",'Preços e Custos'!L43)","v":""}]
[{"$f":"IF('Preços e Custos'!A44=\"\",\"\",'Preços e Custos'!A44)","v":""},{"$f":"IF('Preços e Custos'!B44=\"\",\"\",'Preços e Custos'!B44)","v":""},{"$f":"IF('Preços e Custos'!C44=\"\",\"\",'Preços e Custos'!C44)","v":""},{"$f":"IF('Preços e Custos'!D44=\"\",\"\",'Preços e Custos'!D44)","v":""},{"$f":"IF('Preços e Custos'!E44=\"\",\"\",'Preços e Custos'!E44)","v":""},{"$f":"IF('Preços e Custos'!F44=\"\",\"\",'Preços e Custos'!F44)","v":""},null,null,{"$f":"IF('Preços e Custos'!I44=\"\",\"\",'Preços e Custos'!I44)","v":""},{"$f":"IF('Preços e Custos'!J44=\"\",\"\",'Preços e Custos'!J44)","v":""},{"$nulls":3},{"$f":"IF('Preços e Custos'!L44=\"\",\"\",'Preços e Custos'!L44)","v":""}]
[{"$f":"IF('Preços e Custos'!A45=\"\",\"\",'Preços e Custos'!A45)","v":""},{"$f":"IF('Preços e Custos'!B45=\"\",\"\",'Preços e Custos'!B45)","v":""},{"$f":"IF('Preços e Custos'!C45=\"\",\"\",'Preços e Custos'!C45)","v":""},{"$f":"IF('Preços e Custos'!D45=\"\",\"\",'Preços e Custos'!D45)","v":""},{"$f":"IF('Preços e Custos'!E45=\"\",\"\",'Preços e Custos'!E45)","v":""},{"$f":"IF('Preços e Custos'!F45=\"\",\"\",'Preços e Custos'!F45)","v":""},null,null,{"$f":"IF('Preços e Custos'!I45=\"\",\"\",'Preços e Custos'!I45)","v":""},{"$f":"IF('Preços e Custos'!J45=\"\",\"\",'Preços e Custos'!J45)","v":""},{"$nulls":3},{"$f":"IF('Preços e Custos'!L45=\"\",\"\",'Preços e Custos'!L45)","v":""}]
[{"$f":"IF('Preços e Custos'!A46=\"\",\"\",'Preços e Custos'!A46)","v":""},{"$f":"IF('Preços e Custos'!B46=\"\",\"\",'Preços e Custos'!B46)","v":""},{"$f":"IF('Preços e Custos'!C46=\"\",\"\",'Preços e Custos'!C46)","v":""},{"$f":"IF('Preços e Custos'!D46=\"\",\"\",'Preços e Custos'!D46)","v":""},{"$f":"IF('Preços e Custos'!E46=\"\",\"\",'Preços e Custos'!E46)","v":""},{"$f":"IF('Preços e Custos'!F46=\"\",\"\",'Preços e Custos'!F46)","v":""},null,null,{"$f":"IF('Preços e Custos'!I46=\"\",\"\",'Preços e Custos'!I46)","v":""},{"$f":"IF('Preços e Custos'!J46=\"\",\"\",'Preços e Custos'!J46)","v":""},{"$nulls":3},{"$f":"IF('Preços e Custos'!L46=\"\",\"\",'Preços e Custos'!L46)","v":""}]
[{"$f":"IF('Preços e Custos'!A47=\"\",\"\",'Preços e Custos'!A47)","v":""},{"$f":"IF('Preços e Custos'!B47=\"\",\"\",'Preços e Custos'!B47)","v":""},{"$f":"IF('Preços e Custos'!C47=\"\",\"\",'Preços e Custos'!C47)","v":""},{"$f":"IF('Preços e Custos'!D47=\"\",\"\",'Preços e Custos'!D47)","v":""},{"$f":"IF('Preços e Custos'!E47=\"\",\"\",'Preços e Custos'!E47)","v":""},{"$f":"IF('Preços e Custos'!F47=\"\",\"\",'Preços e Custos'!F47)","v":""},null,null,{"$f":"IF('Preços e Custos'!I47=\"\",\"\",'Preços e Custos'!I47)","v":""},{"$f":"IF('Preços e Custos'!J47=\"\",\"\",'Preços e Custos'!J47)","v":""},{"$nulls":3},{"$f":"IF('Preços e Custos'!L47=\"\",\"\",'Preços e Custos'!L47)","v":""}]
[{"$f":"IF('Preços e Custos'!A48=\"\",\"\",'Preços e Custos'!A48)","v":""},{"$f":"IF('Preços e Custos'!B48=\"\",\"\",'Preços e Custos'!B48)","v":""},{"$f":"IF('Preços e Custos'!C48=\"\",\"\",'Preços e Custos'!C48)","v":""},{"$f":"IF('Preços e Custos'!D48=\"\",\"\",'Preços e Custos'!D48)","v":""},{"$f":"IF('Preços e Custos'!E48=\"\",\"\",'Preços e Custos'!E48)","v":""},{"$f":"IF('Preços e Custos'!F48=\"\",\"\",'Preços e Custos'!F48)","v":""},null,null,{"$f":"IF('Preços e Custos'!I48=\"\",\"\",'Preços e Custos'!I48)","v":""},{"$f":"IF('Preços e Custos'!J48=\"\",\"\",'Preços e Custos'!J48)","v":""},{"$nulls":3},{"$f":"IF('Preços e Custos'!L48=\"\",\"\",'Preços e Custos'!L48)","v":""}]
[{"$f":"IF('Preços e Custos'!A49=\"\",\"\",'Preços e Custos'!A49)","v":""},{"$f":"IF('Preços e Custos'!B49=\"\",\"\",'Preços e Custos'!B49)","v":""},{"$f":"IF('Preços e Custos'!C49=\"\",\"\",'Preços e Custos'!C49)","v":""},{"$f":"IF('Preços e Custos'!D49=\"\",\"\",'Preços e Custos'!D49)","v":""},{"$f":"IF('Preços e Custos'!E49=\"\",\"\",'Preços e Custos'!E49)","v":""},{"$f":"IF('Preços e Custos'!F49=\"\",\"\",'Preços e Custos'!F49)","v":""},null,null,{"$f":"IF('Preços e Custos'!I49=\"\",\"\",'Preços e Custos'!I49)","v":""},{"$f":"IF('Preços e Custos'!J49=\"\",\"\",'Preços e Custos'!J49)","v":""},{"$nulls":3},{"$f":"IF('Preços e Custos'!L49=\"\",\"\",'Preços e Custos'!L49)","v":""}]
[{"$f":"IF('Preços e Custos'!A50=\"\",\"\",'Preços e Custos'!A50)","v":""},{"$f":"IF('Preços e Custos'!B50=\"\",\"\",'Preços e Custos'!B50)","v":""},{"$f":"IF('Preços e Custos'!C50=\"\",\"\",'Preços e Custos'!C50)","v":""},{"$f":"IF('Preços e Custos'!D50=\"\",\"\",'Preços e Custos'!D50)","v":""},{"$f":"IF('Preços e Custos'!E50=\"\",\"\",'Preços e Custos'!E50)","v":""},{"$f":"IF('Preços e Custos'!F50=\"\",\"\",'Preços e Custos'!F50)","v":""},null,null,{"$f":"IF('Preços e Custos'!I50=\"\",\"\",'Preços e Custos'!I50)","v":""},{"$f":"IF('Preços e Custos'!J50=\"\",\"\",'Preços e Custos'!J50)","v":""},{"$nulls":3},{"$f":"IF('Preços e Custos'!L50=\"\",\"\",'Preços e Custos'!L50)","v":""}]
[{"$f":"IF('Preços e Custos'!A51=\"\",\"\",'Preços e Custos'!A51)","v":""},{"$f":"IF('Preços e Custos'!B51=\"\",\"\",'Preços e Custos'!B51)","v":""},{"$f":"IF('Preços e Custos'!C51=\"\",\"\",'Preços e Custos'!C51)","v":""},{"$f":"IF('Preços e Custos'!D51=\"\",\"\",'Preços e Custos'!D51)","v":""},{"$f":"IF('Preços e Custos'!E51=\"\",\"\",'Preços e Custos'!E51)","v":""},{"$f":"IF('Preços e Custos'!F51=\"\",\"\",'Preços e Custos'!F51)","v":""},null,null,{"$f":"IF('Preços e Custos'!I51=\"\",\"\",'Preços e Custos'!I51)","v":""},{"$f":"IF('Preços e Custos'!J51=\"\",\"\",'Preços e Custos'!J51)","v":""},{"$nulls":3},{"$f":"IF('Preços e Custos'!L51=\"\",\"\",'Preços e Custos'!L51)","v":""}]
[{"$f":"IF('Preços e Custos'!A52=\"\",\"\",'Preços e Custos'!A52)","v":""},{"$f":"IF('Preços e Custos'!B52=\"\",\"\",'Preços e Custos'!B52)","v":""},{"$f":"IF('Preços e Custos'!C52=\"\",\"\",'Preços e Custos'!C52)","v":""},{"$f":"IF('Preços e Custos'!D52=\"\",\"\",'Preços e Custos'!D52)","v":""},{"$f":"IF('Preços e Custos'!E52=\"\",\"\",'Preços e Custos'!E52)","v":""},{"$f":"IF('Preços e Custos'!F52=\"\",\"\",'Preços e Custos'!F52)","v":""},null,null,{"$f":"IF('Preços e Custos'!I52=\"\",\"\",'Preços e Custos'!I52)","v":""},{"$f":"IF('Preços e Custos'!J52=\"\",\"\",'Preços e Custos'!J52)","v":""},{"$nulls":3},{"$f":"IF('Preços e Custos'!L52=\"\",\"\",'Preços e Custos'!L52)","v":""}]
[{"$f":"IF('Preços e Custos'!A53=\"\",\"\",'Preços e Custos'!A53)","v":""},{"$f":"IF('Preços e Custos'!B53=\"\",\"\",'Preços e Custos'!B53)","v":""},{"$f":"IF('Preços e Custos'!C53=\"\",\"\",'Preços e Custos'!C53)","v":""},{"$f":"IF('Preços e Custos'!D53=\"\",\"\",'Preços e Custos'!D53)","v":""},{"$f":"IF('Preços e Custos'!E53=\"\",\"\",'Preços e Custos'!E53)","v":""},{"$f":"IF('Preços e Custos'!F53=\"\",\"\",'Preços e Custos'!F53)","v":""},null,null,{"$f":"IF('Preços e Custos'!I53=\"\",\"\",'Preços e Custos'!I53)","v":""},{"$f":"IF('Preços e Custos'!J53=\"\",\"\",'Preços e Custos'!J53)","v":""},{"$nulls":3},{"$f":"IF('Preços e Custos'!L53=\"\",\"\",'Preços e Custos'!L53)","v":""}]
[{"$f":"IF('Preços e Custos'!A54=\"\",\"\",'Preços e Custos'!A54)","v":""},{"$f":"IF('Preços e Custos'!B54=\"\",\"\",'Preços e Custos'!B54)","v":""},{"$f":"IF('Preços e Custos'!C54=\"\",\"\",'Preços e Custos'!C54)","v":""},{"$f":"IF('Preços e Custos'!D54=\"\",\"\",'Preços e Custos'!D54)","v":""},{"$f":"IF('Preços e Custos'!E54=\"\",\"\",'Preços e Custos'!E54)","v":""},{"$f":"IF('Preços e Custos'!F54=\"\",\"\",'Preços e Custos'!F54)","v":""},null,null,{"$f":"IF('Preços e Custos'!I54=\"\",\"\",'Preços e Custos'!I54)","v":""},{"$f":"IF('Preços e Custos'!J54=\"\",\"\",'Preços e Custos'!J54)","v":""},{"$nulls":3},{"$f":"IF('Preços e Custos'!L54=\"\",\"\",'Preços e Custos'!L54)","v":""}]
[{"$f":"IF('Preços e Custos'!A55=\"\",\"\",'Preços e Custos'!A55)","v":""},{"$f":"IF('Preços e Custos'!B55=\"\",\"\",'Preços e Custos'!B55)","v":""},{"$f":"IF('Preços e Custos'!C55=\"\",\"\",'Preços e Custos'!C55)","v":""},{"$f":"IF('Preços e Custos'!D55=\"\",\"\",'Preços e Custos'!D55)","v":""},{"$f":"IF('Preços e Custos'!E55=\"\",\"\",'Preços e Custos'!E55)","v":""},{"$f":"IF('Preços e Custos'!F55=\"\",\"\",'Preços e Custos'!F55)","v":""},null,null,{"$f":"IF('Preços e Custos'!I55=\"\",\"\",'Preços e Custos'!I55)","v":""},{"$f":"IF('Preços e Custos'!J55=\"\",\"\",'Preços e Custos'!J55)","v":""},{"$nulls":3},{"$f":"IF('Preços e Custos'!L55=\"\",\"\",'Preços e Custos'!L55)","v":""}]
[{"$f":"IF('Preços e Custos'!A56=\"\",\"\",'Preços e Custos'!A56)","v":""},{"$f":"IF('Preços e Custos'!B56=\"\",\"\",'Preços e Custos'!B56)","v":""},{"$f":"IF('Preços e Custos'!C56=\"\",\"\",'Preços e Custos'!C56)","v":""},{"$f":"IF('Preços e Custos'!D56=\"\",\"\",'Preços e Custos'!D56)","v":""},{"$f":"IF('Preços e Custos'!E56=\"\",\"\",'Preços e Custos'!E56)","v":""},{"$f":"IF('Preços e Custos'!F56=\"\",\"\",'Preços e Custos'!F56)","v":""},null,null,{"$f":"IF('Preços e Custos'!I56=\"\",\"\",'Preços e Custos'!I56)","v":""},{"$f":"IF('Preços e Custos'!J56=\"\",\"\",'Preços e Custos'!J56)","v":""},{"$nulls":3},{"$f":"IF('Preços e Custos'!L56=\"\",\"\",'Preços e Custos'!L56)","v":""}]
[{"$f":"IF('Preços e Custos'!A57=\"\",\"\",'Preços e Custos'!A57)","v":""},{"$f":"IF('Preços e Custos'!B57=\"\",\"\",'Preços e Custos'!B57)","v":""},{"$f":"IF('Preços e Custos'!C57=\"\",\"\",'Preços e Custos'!C57)","v":""},{"$f":"IF('Preços e Custos'!D57=\"\",\"\",'Preços e Custos'!D57)","v":""},{"$f":"IF('Preços e Custos'!E57=\"\",\"\",'Preços e Custos'!E57)","v":""},{"$f":"IF('Preços e Custos'!F57=\"\",\"\",'Preços e Custos'!F57)","v":""},null,null,{"$f":"IF('Preços e Custos'!I57=\"\",\"\",'Preços e Custos'!I57)","v":""},{"$f":"IF('Preços e Custos'!J57=\"\",\"\",'Preços e Custos'!J57)","v":""},{"$nulls":3},{"$f":"IF('Preços e Custos'!L57=\"\",\"\",'Preços e Custos'!L57)","v":""}]
[{"$f":"IF('Preços e Custos'!A58=\"\",\"\",'Preços e Custos'!A58)","v":""},{"$f":"IF('Preços e Custos'!B58=\"\",\"\",'Preços e Custos'!B58)","v":""},{"$f":"IF('Preços e Custos'!C58=\"\",\"\",'Preços e Custos'!C58)","v":""},{"$f":"IF('Preços e Custos'!D58=\"\",\"\",'Preços e Custos'!D58)","v":""},{"$f":"IF('Preços e Custos'!E58=\"\",\"\",'Preços e Custos'!E58)","v":""},{"$f":"IF('Preços e Custos'!F58=\"\",\"\",'Preços e Custos'!F58)","v":""},null,null,{"$f":"IF('Preços e Custos'!I58=\"\",\"\",'Preços e Custos'!I58)","v":""},{"$f":"IF('Preços e Custos'!J58=\"\",\"\",'Preços e Custos'!J58)","v":""},{"$nulls":3},{"$f":"IF('Preços e Custos'!L58=\"\",\"\",'Preços e Custos'!L58)","v":""}]
[{"$f":"IF('Preços e Custos'!A59=\"\",\"\",'Preços e Custos'!A59)","v":""},{"$f":"IF('Preços e Custos'!B59=\"\",\"\",'Preços e Custos'!B59)","v":""},{"$f":"IF('Preços e Custos'!C59=\"\",\"\",'Preços e Custos'!C59)","v":""},{"$f":"IF('Preços e Custos'!D59=\"\",\"\",'Preços e Custos'!D59)","v":""},{"$f":"IF('Preços e Custos'!E59=\"\",\"\",'Preços e Custos'!E59)","v":""},{"$f":"IF('Preços e Custos'!F59=\"\",\"\",'Preços e Custos'!F59)","v":""},null,null,{"$f":"IF('Preços e Custos'!I59=\"\",\"\",'Preços e Custos'!I59)","v":""},{"$f":"IF('Preços e Custos'!J59=\"\",\"\",'Preços e Custos'!J59)","v":""},{"$nulls":3},{"$f":"IF('Preços e Custos'!L59=\"\",\"\",'Preços e Custos'!L59)","v":""}]
[{"$f":"IF('Preços e Custos'!A60=\"\",\"\",'Preços e Custos'!A60)","v":""},{"$f":"IF('Preços e Custos'!B60=\"\",\"\",'Preços e Custos'!B60)","v":""},{"$f":"IF('Preços e Custos'!C60=\"\",\"\",'Preços e Custos'!C60)","v":""},{"$f":"IF('Preços e Custos'!D60=\"\",\"\",'Preços e Custos'!D60)","v":""},{"$f":"IF('Preços e Custos'!E60=\"\",\"\",'Preços e Custos'!E60)","v":""},{"$f":"IF('Preços e Custos'!F60=\"\",\"\",'Preços e Custos'!F60)","v":""},null,null,{"$f":"IF('Preços e Custos'!I60=\"\",\"\",'Preços e Custos'!I60)","v":""},{"$f":"IF('Preços e Custos'!J60=\"\",\"\",'Preços e Custos'!J60)","v":""},{"$nulls":3},{"$f":"IF('Preços e Custos'!L60=\"\",\"\",'Preços e Custos'!L60)","v":""}]
[{"$f":"IF('Preços e Custos'!A61=\"\",\"\",'Preços e Custos'!A61)","v":""},{"$f":"IF('Preços e Custos'!B61=\"\",\"\",'Preços e Custos'!B61)","v":""},{"$f":"IF('Preços e Custos'!C61=\"\",\"\",'Preços e Custos'!C61)","v":""},{"$f":"IF('Preços e Custos'!D61=\"\",\"\",'Preços e Custos'!D61)","v":""},{"$f":"IF('Preços e Custos'!E61=\"\",\"\",'Preços e Custos'!E61)","v":""},{"$f":"IF('Preços e Custos'!F61=\"\",\"\",'Preços e Custos'!F61)","v":""},null,null,{"$f":"IF('Preços e Custos'!I61=\"\",\"\",'Preços e Custos'!I61)","v":""},{"$f":"IF('Preços e Custos'!J61=\"\",\"\",'Preços e Custos'!J61)","v":""},{"$nulls":3},{"$f":"IF('Preços e Custos'!L61=\"\",\"\",'Preços e Custos'!L61)","v":""}]
[{"$f":"IF('Preços e Custos'!A62=\"\",\"\",'Preços e Custos'!A62)","v":""},{"$f":"IF('Preços e Custos'!B62=\"\",\"\",'Preços e Custos'!B62)","v":""},{"$f":"IF('Preços e Custos'!C62=\"\",\"\",'Preços e Custos'!C62)","v":""},{"$f":"IF('Preços e Custos'!D62=\"\",\"\",'Preços e Custos'!D62)","v":""},{"$f":"IF('Preços e Custos'!E62=\"\",\"\",'Preços e Custos'!E62)","v":""},{"$f":"IF('Preços e Custos'!F62=\"\",\"\",'Preços e Custos'!F62)","v":""},null,null,{"$f":"IF('Preços e Custos'!I62=\"\",\"\",'Preços e Custos'!I62)","v":""},{"$f":"IF('Preços e Custos'!J62=\"\",\"\",'Preços e Custos'!J62)","v":""},{"$nulls":3},{"$f":"IF('Preços e Custos'!L62=\"\",\"\",'Preços e Custos'!L62)","v":""}]
[{"$f":"IF('Preços e Custos'!A63=\"\",\"\",'Preços e Custos'!A63)","v":""},{"$f":"IF('Preços e Custos'!B63=\"\",\"\",'Preços e Custos'!B63)","v":""},{"$f":"IF('Preços e Custos'!C63=\"\",\"\",'Preços e Custos'!C63)","v":""},{"$f":"IF('Preços e Custos'!D63=\"\",\"\",'Preços e Custos'!D63)","v":""},{"$f":"IF('Preços e Custos'!E63=\"\",\"\",'Preços e Custos'!E63)","v":""},{"$f":"IF('Preços e Custos'!F63=\"\",\"\",'Preços e Custos'!F63)","v":""},null,null,{"$f":"IF('Preços e Custos'!I63=\"\",\"\",'Preços e Custos'!I63)","v":""},{"$f":"IF('Preços e Custos'!J63=\"\",\"\",'Preços e Custos'!J63)","v":""},{"$nulls":3},{"$f":"IF('Preços e Custos'!L63=\"\",\"\",'Preços e Custos'!L63)","v":""}]
[{"$f":"IF('Preços e Custos'!A64=\"\",\"\",'Preços e Custos'!A64)","v":""},{"$f":"IF('Preços e Custos'!B64=\"\",\"\",'Preços e Custos'!B64)","v":""},{"$f":"IF('Preços e Custos'!C64=\"\",\"\",'Preços e Custos'!C64)","v":""},{"$f":"IF('Preços e Custos'!D64=\"\",\"\",'Preços e Custos'!D64)","v":""},{"$f":"IF('Preços e Custos'!E64=\"\",\"\",'Preços e Custos'!E64)","v":""},{"$f":"IF('Preços e Custos'!F64=\"\",\"\",'Preços e Custos'!F64)","v":""},null,null,{"$f":"IF('Preços e Custos'!I64=\"\",\"\",'Preços e Custos'!I64)","v":""},{"$f":"IF('Preços e Custos'!J64=\"\",\"\",'Preços e Custos'!J64)","v":""},{"$nulls":3},{"$f":"IF('Preços e Custos'!L64=\"\",\"\",'Preços e Custos'!L64)","v":""}]
[{"$f":"IF('Preços e Custos'!A65=\"\",\"\",'Preços e Custos'!A65)","v":""},{"$f":"IF('Preços e Custos'!B65=\"\",\"\",'Preços e Custos'!B65)","v":""},{"$f":"IF('Preços e Custos'!C65=\"\",\"\",'Preços e Custos'!C65)","v":""},{"$f":"IF('Preços e Custos'!D65=\"\",\"\",'Preços e Custos'!D65)","v":""},{"$f":"IF('Preços e Custos'!E65=\"\",\"\",'Preços e Custos'!E65)","v":""},{"$f":"IF('Preços e Custos'!F65=\"\",\"\",'Preços e Custos'!F65)","v":""},null,null,{"$f":"IF('Preços e Custos'!I65=\"\",\"\",'Preços e Custos'!I65)","v":""},{"$f":"IF('Preços e Custos'!J65=\"\",\"\",'Preços e Custos'!J65)","v":""},{"$nulls":3},{"$f":"IF('Preços e Custos'!L65=\"\",\"\",'Preços e Custos'!L65)","v":""}]
[{"$f":"IF('Preços e Custos'!A66=\"\",\"\",'Preços e Custos'!A66)","v":""},{"$f":"IF('Preços e Custos'!B66=\"\",\"\",'Preços e Custos'!B66)","v":""},{"$f":"IF('Preços e Custos'!C66=\"\",\"\",'Preços e Custos'!C66)","v":""},{"$f":"IF('Preços e Custos'!D66=\"\",\"\",'Preços e Custos'!D66)","v":""},{"$f":"IF('Preços e Custos'!E66=\"\",\"\",'Preços e Custos'!E66)","v":""},{"$f":"IF('Preços e Custos'!F66=\"\",\"\",'Preços e Custos'!F66)","v":""},null,null,{"$f":"IF('Preços e Custos'!I66=\"\",\"\",'Preços e Custos'!I66)","v":""},{"$f":"IF('Preços e Custos'!J66=\"\",\"\",'Preços e Custos'!J66)","v":""},{"$nulls":3},{"$f":"IF('Preços e Custos'!L66=\"\",\"\",'Preços e Custos'!L66)","v":""}]
[{"$f":"IF('Preços e Custos'!A67=\"\",\"\",'Preços e Custos'!A67)","v":""},{"$f":"IF('Preços e Custos'!B67=\"\",\"\",'Preços e Custos'!B67)","v":""},{"$f":"IF('Preços e Custos'!C67=\"\",\"\",'Preços e Custos'!C67)","v":""},{"$f":"IF('Preços e Custos'!D67=\"\",\"\",'Preços e Custos'!D67)","v":""},{"$f":"IF('Preços e Custos'!E67=\"\",\"\",'Preços e Custos'!E67)","v":""},{"$f":"IF('Preços e Custos'!F67=\"\",\"\",'Preços e Custos'!F67)","v":""},null,null,{"$f":"IF('Preços e Custos'!I67=\"\",\"\",'Preços e Custos'!I67)","v":""},{"$f":"IF('Preços e Custos'!J67=\"\",\"\",'Preços e Custos'!J67)","v":""},{"$nulls":3},{"$f":"IF('Preços e Custos'!L67=\"\",\"\",'Preços e Custos'!L67)","v":""}]
[{"$f":"IF('Preços e Custos'!A68=\"\",\"\",'Preços e Custos'!A68)","v":""},{"$f":"IF('Preços e Custos'!B68=\"\",\"\",'Preços e Custos'!B68)","v":""},{"$f":"IF('Preços e Custos'!C68=\"\",\"\",'Preços e Custos'!C68)","v":""},{"$f":"IF('Preços e Custos'!D68=\"\",\"\",'Preços e Custos'!D68)","v":""},{"$f":"IF('Preços e Custos'!E68=\"\",\"\",'Preços e Custos'!E68)","v":""},{"$f":"IF('Preços e Custos'!F68=\"\",\"\",'Preços e Custos'!F68)","v":""},null,null,{"$f":"IF('Preços e Custos'!I68=\"\",\"\",'Preços e Custos'!I68)","v":""},{"$f":"IF('Preços e Custos'!J68=\"\",\"\",'Preços e Custos'!J68)","v":""},{"$nulls":3},{"$f":"IF('Preços e Custos'!L68=\"\",\"\",'Preços e Custos'!L68)","v":""}]
[{"$f":"IF('Preços e Custos'!A69=\"\",\"\",'Preços e Custos'!A69)","v":""},{"$f":"IF('Preços e Custos'!B69=\"\",\"\",'Preços e Custos'!B69)","v":""},{"$f":"IF('Preços e Custos'!C69=\"\",\"\",'Preços e Custos'!C69)","v":""},{"$f":"IF('Preços e Custos'!D69=\"\",\"\",'Preços e Custos'!D69)","v":""},{"$f":"IF('Preços e Custos'!E69=\"\",\"\",'Preços e Custos'!E69)","v":""},{"$f":"IF('Preços e Custos'!F69=\"\",\"\",'Preços e Custos'!F69)","v":""},null,null,{"$f":"IF('Preços e Custos'!I69=\"\",\"\",'Preços e Custos'!I69)","v":""},{"$f":"IF('Preços e Custos'!J69=\"\",\"\",'Preços e Custos'!J69)","v":""},{"$nulls":3},{"$f":"IF('Preços e Custos'!L69=\"\",\"\",'Preços e Custos'!L69)","v":""}]
[{"$f":"IF('Preços e Custos'!A70=\"\",\"\",'Preços e Custos'!A70)","v":""},{"$f":"IF('Preços e Custos'!B70=\"\",\"\",'Preços e Custos'!B70)","v":""},{"$f":"IF('Preços e Custos'!C70=\"\",\"\",'Preços e Custos'!C70)","v":""},{"$f":"IF('Preços e Custos'!D70=\"\",\"\",'Preços e Custos'!D70)","v":""},{"$f":"IF('Preços e Custos'!E70=\"\",\"\",'Preços e Custos'!E70)","v":""},{"$f":"IF('Preços e Custos'!F70=\"\",\"\",'Preços e Custos'!F70)","v":""},null,null,{"$f":"IF('Preços e Custos'!I70=\"\",\"\",'Preços e Custos'!I70)","v":""},{"$f":"IF('Preços e Custos'!J70=\"\",\"\",'Preços e Custos'!J70)","v":""},{"$nulls":3},{"$f":"IF('Preços e Custos'!L70=\"\",\"\",'Preços e Custos'!L70)","v":""}]
[{"$f":"IF('Preços e Custos'!A71=\"\",\"\",'Preços e Custos'!A71)","v":""},{"$f":"IF('Preços e Custos'!B71=\"\",\"\",'Preços e Custos'!B71)","v":""},{"$f":"IF('Preços e Custos'!C71=\"\",\"\",'Preços e Custos'!C71)","v":""},{"$f":"IF('Preços e Custos'!D71=\"\",\"\",'Preços e Custos'!D71)","v":""},{"$f":"IF('Preços e Custos'!E71=\"\",\"\",'Preços e Custos'!E71)","v":""},{"$f":"IF('Preços e Custos'!F71=\"\",\"\",'Preços e Custos'!F71)","v":""},null,null,{"$f":"IF('Preços e Custos'!I71=\"\",\"\",'Preços e Custos'!I71)","v":""},{"$f":"IF('Preços e Custos'!J71=\"\",\"\",'Preços e Custos'!J71)","v":""},{"$nulls":3},{"$f":"IF('Preços e Custos'!L71=\"\",\"\",'Preços e Custos'!L71)","v":""}]
[{"$f":"IF('Preços e Custos'!A72=\"\",\"\",'Preços e Custos'!A72)","v":""},{"$f":"IF('Preços e Custos'!B72=\"\",\"\",'Preços e Custos'!B72)","v":""},{"$f":"IF('Preços e Custos'!C72=\"\",\"\",'Preços e Custos'!C72)","v":""},{"$f":"IF('Preços e Custos'!D72=\"\",\"\",'Preços e Custos'!D72)","v":""},{"$f":"IF('Preços e Custos'!E72=\"\",\"\",'Preços e Custos'!E72)","v":""},{"$f":"IF('Preços e Custos'!F72=\"\",\"\",'Preços e Custos'!F72)","v":""},null,null,{"$f":"IF('Preços e Custos'!I72=\"\",\"\",'Preços e Custos'!I72)","v":""},{"$f":"IF('Preços e Custos'!J72=\"\",\"\",'Preços e Custos'!J72)","v":""},{"$nulls":3},{"$f":"IF('Preços e Custos'!L72=\"\",\"\",'Preços e Custos'!L72)","v":""}]
[{"$f":"IF('Preços e Custos'!A73=\"\",\"\",'Preços e Custos'!A73)","v":""},{"$f":"IF('Preços e Custos'!B73=\"\",\"\",'Preços e Custos'!B73)","v":""},{"$f":"IF('Preços e Custos'!C73=\"\",\"\",'Preços e Custos'!C73)","v":""},{"$f":"IF('Preços e Custos'!D73=\"\",\"\",'Preços e Custos'!D73)","v":""},{"$f":"IF('Preços e Custos'!E73=\"\",\"\",'Preços e Custos'!E73)","v":""},{"$f":"IF('Preços e Custos'!F73=\"\",\"\",'Preços e Custos'!F73)","v":""},null,null,{"$f":"IF('Preços e Custos'!I73=\"\",\"\",'Preços e Custos'!I73)","v":""},{"$f":"IF('Preços e Custos'!J73=\"\",\"\",'Preços e Custos'!J73)","v":""},{"$nulls":3},{"$f":"IF('Preços e Custos'!L73=\"\",\"\",'Preços e Custos'!L73)","v":""}]
[{"$f":"IF('Preços e Custos'!A74=\"\",\"\",'Preços e Custos'!A74)","v":""},{"$f":"IF('Preços e Custos'!B74=\"\",\"\",'Preços e Custos'!B74)","v":""},{"$f":"IF('Preços e Custos'!C74=\"\",\"\",'Preços e Custos'!C74)","v":""},{"$f":"IF('Preços e Custos'!D74=\"\",\"\",'Preços e Custos'!D74)","v":""},{"$f":"IF('Preços e Custos'!E74=\"\",\"\",'Preços e Custos'!E74)","v":""},{"$f":"IF('Preços e Custos'!F74=\"\",\"\",'Preços e Custos'!F74)","v":""},null,null,{"$f":"IF('Preços e Custos'!I74=\"\",\"\",'Preços e Custos'!I74)","v":""},{"$f":"IF('Preços e Custos'!J74=\"\",\"\",'Preços e Custos'!J74)","v":""},{"$nulls":3},{"$f":"IF('Preços e Custos'!L74=\"\",\"\",'Preços e Custos'!L74)","v":""}]
[{"$f":"IF('Preços e Custos'!A75=\"\",\"\",'Preços e Custos'!A75)","v":""},{"$f":"IF('Preços e Custos'!B75=\"\",\"\",'Preços e Custos'!B75)","v":""},{"$f":"IF('Preços e Custos'!C75=\"\",\"\",'Preços e Custos'!C75)","v":""},{"$f":"IF('Preços e Custos'!D75=\"\",\"\",'Preços e Custos'!D75)","v":""},{"$f":"IF('Preços e Custos'!E75=\"\",\"\",'Preços e Custos'!E75)","v":""},{"$f":"IF('Preços e Custos'!F75=\"\",\"\",'Preços e Custos'!F75)","v":""},null,null,{"$f":"IF('Preços e Custos'!I75=\"\",\"\",'Preços e Custos'!I75)","v":""},{"$f":"IF('Preços e Custos'!J75=\"\",\"\",'Preços e Custos'!J75)","v":""},{"$nulls":3},{"$f":"IF('Preços e Custos'!L75=\"\",\"\",'Preços e Custos'!L75)","v":""}]
[{"$f":"IF('Preços e Custos'!A76=\"\",\"\",'Preços e Custos'!A76)","v":""},{"$f":"IF('Preços e Custos'!B76=\"\",\"\",'Preços e Custos'!B76)","v":""},{"$f":"IF('Preços e Custos'!C76=\"\",\"\",'Preços e Custos'!C76)","v":""},{"$f":"IF('Preços e Custos'!D76=\"\",\"\",'Preços e Custos'!D76)","v":""},{"$f":"IF('Preços e Custos'!E76=\"\",\"\",'Preços e Custos'!E76)","v":""},{"$f":"IF('Preços e Custos'!F76=\"\",\"\",'Preços e Custos'!F76)","v":""},null,null,{"$f":"IF('Preços e Custos'!I76=\"\",\"\",'Preços e Custos'!I76)","v":""},{"$f":"IF('Preços e Custos'!J76=\"\",\"\",'Preços e Custos'!J76)","v":""},{"$nulls":3},{"$f":"IF('Preços e Custos'!L76=\"\",\"\",'Preços e Custos'!L76)","v":""}]
[{"$f":"IF('Preços e Custos'!A77=\"\",\"\",'Preços e Custos'!A77)","v":""},{"$f":"IF('Preços e Custos'!B77=\"\",\"\",'Preços e Custos'!B77)","v":""},{"$f":"IF('Preços e Custos'!C77=\"\",\"\",'Preços e Custos'!C77)","v":""},{"$f":"IF('Preços e Custos'!D77=\"\",\"\",'Preços e Custos'!D77)","v":""},{"$f":"IF('Preços e Custos'!E77=\"\",\"\",'Preços e Custos'!E77)","v":""},{"$f":"IF('Preços e Custos'!F77=\"\",\"\",'Preços e Custos'!F77)","v":""},null,null,{"$f":"IF('Preços e Custos'!I77=\"\",\"\",'Preços e Custos'!I77)","v":""},{"$f":"IF('Preços e Custos'!J77=\"\",\"\",'Preços e Custos'!J77)","v":""},{"$nulls":3},{"$f":"IF('Preços e Custos'!L77=\"\",\"\",'Preços e Custos'!L77)","v":""}]
[{"$f":"IF('Preços e Custos'!A78=\"\",\"\",'Preços e Custos'!A78)","v":""},{"$f":"IF('Preços e Custos'!B78=\"\",\"\",'Preços e Custos'!B78)","v":""},{"$f":"IF('Preços e Custos'!C78=\"\",\"\",'Preços e Custos'!C78)","v":""},{"$f":"IF('Preços e Custos'!D78=\"\",\"\",'Preços e Custos'!D78)","v":""},{"$f":"IF('Preços e Custos'!E78=\"\",\"\",'Preços e Custos'!E78)","v":""},{"$f":"IF('Preços e Custos'!F78=\"\",\"\",'Preços e Custos'!F78)","v":""},null,null,{"$f":"IF('Preços e Custos'!I78=\"\",\"\",'Preços e Custos'!I78)","v":""},{"$f":"IF('Preços e Custos'!J78=\"\",\"\",'Preços e Custos'!J78)","v":""},{"$nulls":3},{"$f":"IF('Preços e Custos'!L78=\"\",\"\",'Preços e Custos'!L78)","v":""}]
[{"$f":"IF('Preços e Custos'!A79=\"\",\"\",'Preços e Custos'!A79)","v":""},{"$f":"IF('Preços e Custos'!B79=\"\",\"\",'Preços e Custos'!B79)","v":""},{"$f":"IF('Preços e Custos'!C79=\"\",\"\",'Preços e Custos'!C79)","v":""},{"$f":"IF('Preços e Custos'!D79=\"\",\"\",'Preços e Custos'!D79)","v":""},{"$f":"IF('Preços e Custos'!E79=\"\",\"\",'Preços e Custos'!E79)","v":""},{"$f":"IF('Preços e Custos'!F79=\"\",\"\",'Preços e Custos'!F79)","v":""},null,null,{"$f":"IF('Preços e Custos'!I79=\"\",\"\",'Preços e Custos'!I79)","v":""},{"$f":"IF('Preços e Custos'!J79=\"\",\"\",'Preços e Custos'!J79)","v":""},{"$nulls":3},{"$f":"IF('Preços e Custos'!L79=\"\",\"\",'Preços e Custos'!L79)","v":""}]
[{"$f":"IF('Preços e Custos'!A80=\"\",\"\",'Preços e Custos'!A80)","v":""},{"$f":"IF('Preços e Custos'!B80=\"\",\"\",'Preços e Custos'!B80)","v":""},{"$f":"IF('Preços e Custos'!C80=\"\",\"\",'Preços e Custos'!C80)","v":""},{"$f":"IF('Preços e Custos'!D80=\"\",\"\",'Preços e Custos'!D80)","v":""},{"$f":"IF('Preços e Custos'!E80=\"\",\"\",'Preços e Custos'!E80)","v":""},{"$f":"IF('Preços e Custos'!F80=\"\",\"\",'Preços e Custos'!F80)","v":""},null,null,{"$f":"IF('Preços e Custos'!I80=\"\",\"\",'Preços e Custos'!I80)","v":""},{"$f":"IF('Preços e Custos'!J80=\"\",\"\",'Preços e Custos'!J80)","v":""},{"$nulls":3},{"$f":"IF('Preços e Custos'!L80=\"\",\"\",'Preços e Custos'!L80)","v":""}]
[{"$f":"IF('Preços e Custos'!A81=\"\",\"\",'Preços e Custos'!A81)","v":""},{"$f":"IF('Preços e Custos'!B81=\"\",\"\",'Preços e Custos'!B81)","v":""},{"$f":"IF('Preços e Custos'!C81=\"\",\"\",'Preços e Custos'!C81)","v":""},{"$f":"IF('Preços e Custos'!D81=\"\",\"\",'Preços e Custos'!D81)","v":""},{"$f":"IF('Preços e Custos'!E81=\"\",\"\",'Preços e Custos'!E81)","v":""},{"$f":"IF('Preços e Custos'!F81=\"\",\"\",'Preços e Custos'!F81)","v":""},null,null,{"$f":"IF('Preços e Custos'!I81=\"\",\"\",'Preços e Custos'!I81)","v":""},{"$f":"IF('Preços e Custos'!J81=\"\",\"\",'Preços e Custos'!J81)","v":""},{"$nulls":3},{"$f":"IF('Preços e Custos'!L81=\"\",\"\",'Preços e Custos'!L81)","v":""}]
[{"$f":"IF('Preços e Custos'!A82=\"\",\"\",'Preços e Custos'!A82)","v":""},{"$f":"IF('Preços e Custos'!B82=\"\",\"\",'Preços e Custos'!B82)","v":""},{"$f":"IF('Preços e Custos'!C82=\"\",\"\",'Preços e Custos'!C82)","v":""},{"$f":"IF('Preços e Custos'!D82=\"\",\"\",'Preços e Custos'!D82)","v":""},{"$f":"IF('Preços e Custos'!E82=\"\",\"\",'Preços e Custos'!E82)","v":""},{"$f":"IF('Preços e Custos'!F82=\"\",\"\",'Preços e Custos'!F82)","v":""},null,null,{"$f":"IF('Preços e Custos'!I82=\"\",\"\",'Preços e Custos'!I82)","v":""},{"$f":"IF('Preços e Custos'!J82=\"\",\"\",'Preços e Custos'!J82)","v":""},{"$nulls":3},{"$f":"IF('Preços e Custos'!L82=\"\",\"\",'Preços e Custos'!L82)","v":""}]
[{"$f":"IF('Preços e Custos'!A83=\"\",\"\",'Preços e Custos'!A83)","v":""},{"$f":"IF('Preços e Custos'!B83=\"\",\"\",'Preços e Custos'!B83)","v":""},{"$f":"IF('Preços e Custos'!C83=\"\",\"\",'Preços e Custos'!C83)","v":""},{"$f":"IF('Preços e Custos'!D83=\"\",\"\",'Preços e Custos'!D83)","v":""},{"$f":"IF('Preços e Custos'!E83=\"\",\"\",'Preços e Custos'!E83)","v":""},{"$f":"IF('Preços e Custos'!F83=\"\",\"\",'Preços e Custos'!F83)","v":""},null,null,{"$f":"IF('Preços e Custos'!I83=\"\",\"\",'Preços e Custos'!I83)","v":""},{"$f":"IF('Preços e Custos'!J83=\"\",\"\",'Preços e Custos'!J83)","v":""},{"$nulls":3},{"$f":"IF('Preços e Custos'!L83=\"\",\"\",'Preços e Custos'!L83)","v":""}]
[{"$f":"IF('Preços e Custos'!A84=\"\",\"\",'Preços e Custos'!A84)","v":""},{"$f":"IF('Preços e Custos'!B84=\"\",\"\",'Preços e Custos'!B84)","v":""},{"$f":"IF('Preços e Custos'!C84=\"\",\"\",'Preços e Custos'!C84)","v":""},{"$f":"IF('Preços e Custos'!D84=\"\",\"\",'Preços e Custos'!D84)","v":""},{"$f":"IF('Preços e Custos'!E84=\"\",\"\",'Preços e Custos'!E84)","v":""},{"$f":"IF('Preços e Custos'!F84=\"\",\"\",'Preços e Custos'!F84)","v":""},null,null,{"$f":"IF('Preços e Custos'!I84=\"\",\"\",'Preços e Custos'!I84)","v":""},{"$f":"IF('Preços e Custos'!J84=\"\",\"\",'Preços e Custos'!J84)","v":""},{"$nulls":3},{"$f":"IF('Preços e Custos'!L84=\"\",\"\",'Preços e Custos'!L84)","v":""}]
[{"$f":"IF('Preços e Custos'!A85=\"\",\"\",'Preços e Custos'!A85)","v":""},{"$f":"IF('Preços e Custos'!B85=\"\",\"\",'Preços e Custos'!B85)","v":""},{"$f":"IF('Preços e Custos'!C85=\"\",\"\",'Preços e Custos'!C85)","v":""},{"$f":"IF('Preços e Custos'!D85=\"\",\"\",'Preços e Custos'!D85)","v":""},{"$f":"IF('Preços e Custos'!E85=\"\",\"\",'Preços e Custos'!E85)","v":""},{"$f":"IF('Preços e Custos'!F85=\"\",\"\",'Preços e Custos'!F85)","v":""},null,null,{"$f":"IF('Preços e Custos'!I85=\"\",\"\",'Preços e Custos'!I85)","v":""},{"$f":"IF('Preços e Custos'!J85=\"\",\"\",'Preços e Custos'!J85)","v":""},{"$nulls":3},{"$f":"IF('Preços e Custos'!L85=\"\",\"\",'Preços e Custos'!L85)","v":""}]
[{"$f":"IF('Preços e Custos'!A86=\"\",\"\",'Preços e Custos'!A86)","v":""},{"$f":"IF('Preços e Custos'!B86=\"\",\"\",'Preços e Custos'!B86)","v":""},{"$f":"IF('Preços e Custos'!C86=\"\",\"\",'Preços e Custos'!C86)","v":""},{"$f":"IF('Preços e Custos'!D86=\"\",\"\",'Preços e Custos'!D86)","v":""},{"$f":"IF('Preços e Custos'!E86=\"\",\"\",'Preços e Custos'!E86)","v":""},{"$f":"IF('Preços e Custos'!F86=\"\",\"\",'Preços e Custos'!F86)","v":""},null,null,{"$f":"IF('Preços e Custos'!I86=\"\",\"\",'Preços e Custos'!I86)","v":""},{"$f":"IF('Preços e Custos'!J86=\"\",\"\",'Preços e Custos'!J86)","v":""},{"$nulls":3},{"$f":"IF('Preços e Custos'!L86=\"\",\"\",'Preços e Custos'!L86)","v":""}]
[{"$f":"IF('Preços e Custos'!A87=\"\",\"\",'Preços e Custos'!A87)","v":""},{"$f":"IF('Preços e Custos'!B87=\"\",\"\",'Preços e Custos'!B87)","v":""},{"$f":"IF('Preços e Custos'!C87=\"\",\"\",'Preços e Custos'!C87)","v":""},{"$f":"IF('Preços e Custos'!D87=\"\",\"\",'Preços e Custos'!D87)","v":""},{"$f":"IF('Preços e Custos'!E87=\"\",\"\",'Preços e Custos'!E87)","v":""},{"$f":"IF('Preços e Custos'!F87=\"\",\"\",'Preços e Custos'!F87)","v":""},null,null,{"$f":"IF('Preços e Custos'!I87=\"\",\"\",'Preços e Custos'!I87)","v":""},{"$f":"IF('Preços e Custos'!J87=\"\",\"\",'Preços e Custos'!J87)","v":""},{"$nulls":3},{"$f":"IF('Preços e Custos'!L87=\"\",\"\",'Preços e Custos'!L87)","v":""}]
[{"$f":"IF('Preços e Custos'!A88=\"\",\"\",'Preços e Custos'!A88)","v":""},{"$f":"IF('Preços e Custos'!B88=\"\",\"\",'Preços e Custos'!B88)","v":""},{"$f":"IF('Preços e Custos'!C88=\"\",\"\",'Preços e Custos'!C88)","v":""},{"$f":"IF('Preços e Custos'!D88=\"\",\"\",'Preços e Custos'!D88)","v":""},{"$f":"IF('Preços e Custos'!E88=\"\",\"\",'Preços e Custos'!E88)","v":""},{"$f":"IF('Preços e Custos'!F88=\"\",\"\",'Preços e Custos'!F88)","v":""},null,null,{"$f":"IF('Preços e Custos'!I88=\"\",\"\",'Preços e Custos'!I88)","v":""},{"$f":"IF('Preços e Custos'!J88=\"\",\"\",'Preços e Custos'!J88)","v":""},{"$nulls":3},{"$f":"IF('Preços e Custos'!L88=\"\",\"\",'Preços e Custos'!L88)","v":""}]
[{"$f":"IF('Preços e Custos'!A89=\"\",\"\",'Preços e Custos'!A89)","v":""},{"$f":"IF('Preços e Custos'!B89=\"\",\"\",'Preços e Custos'!B89)","v":""},{"$f":"IF('Preços e Custos'!C89=\"\",\"\",'Preços e Custos'!C89)","v":""},{"$f":"IF('Preços e Custos'!D89=\"\",\"\",'Preços e Custos'!D89)","v":""},{"$f":"IF('Preços e Custos'!E89=\"\",\"\",'Preços e Custos'!E89)","v":""},{"$f":"IF('Preços e Custos'!F89=\"\",\"\",'Preços e Custos'!F89)","v":""},null,null,{"$f":"IF('Preços e Custos'!I89=\"\",\"\",'Preços e Custos'!I89)","v":""},{"$f":"IF('Preços e Custos'!J89=\"\",\"\",'Preços e Custos'!J89)","v":""},{"$nulls":3},{"$f":"IF('Preços e Custos'!L89=\"\",\"\",'Preços e Custos'!L89)","v":""}]
[{"$f":"IF('Preços e Custos'!A90=\"\",\"\",'Preços e Custos'!A90)","v":""},{"$f":"IF('Preços e Custos'!B90=\"\",\"\",'Preços e Custos'!B90)","v":""},{"$f":"IF('Preços e Custos'!C90=\"\",\"\",'Preços e Custos'!C90)","v":""},{"$f":"IF('Preços e Custos'!D90=\"\",\"\",'Preços e Custos'!D90)","v":""},{"$f":"IF('Preços e Custos'!E90=\"\",\"\",'Preços e Custos'!E90)","v":""},{"$f":"IF('Preços e Custos'!F90=\"\",\"\",'Preços e Custos'!F90)","v":""},null,null,{"$f":"IF('Preços e Custos'!I90=\"\",\"\",'Preços e Custos'!I90)","v":""},{"$f":"IF('Preços e Custos'!J90=\"\",\"\",'Preços e Custos'!J90)","v":""},{"$nulls":3},{"$f":"IF('Preços e Custos'!L90=\"\",\"\",'Preços e Custos'!L90)","v":""}]
[{"$f":"IF('Preços e Custos'!A91=\"\",\"\",'Preços e Custos'!A91)","v":""},{"$f":"IF('Preços e Custos'!B91=\"\",\"\",'Preços e Custos'!B91)","v":""},{"$f":"IF('Preços e Custos'!C91=\"\",\"\",'Preços e Custos'!C91)","v":""},{"$f":"IF('Preços e Custos'!D91=\"\",\"\",'Preços e Custos'!D91)","v":""},{"$f":"IF('Preços e Custos'!E91=\"\",\"\",'Preços e Custos'!E91)","v":""},{"$f":"IF('Preços e Custos'!F91=\"\",\"\",'Preços e Custos'!F91)","v":""},null,null,{"$f":"IF('Preços e Custos'!I91=\"\",\"\",'Preços e Custos'!I91)","v":""},{"$f":"IF('Preços e Custos'!J91=\"\",\"\",'Preços e Custos'!J91)","v":""},{"$nulls":3},{"$f":"IF('Preços e Custos'!L91=\"\",\"\",'Preços e Custos'!L91)","v":""}]
[{"$f":"IF('Preços e Custos'!A92=\"\",\"\",'Preços e Custos'!A92)","v":""},{"$f":"IF('Preços e Custos'!B92=\"\",\"\",'Preços e Custos'!B92)","v":""},{"$f":"IF('Preços e Custos'!C92=\"\",\"\",'Preços e Custos'!C92)","v":""},{"$f":"IF('Preços e Custos'!D92=\"\",\"\",'Preços e Custos'!D92)","v":""},{"$f":"IF('Preços e Custos'!E92=\"\",\"\",'Preços e Custos'!E92)","v":""},{"$f":"IF('Preços e Custos'!F92=\"\",\"\",'Preços e Custos'!F92)","v":""},null,null,{"$f":"IF('Preços e Custos'!I92=\"\",\"\",'Preços e Custos'!I92)","v":""},{"$f":"IF('Preços e Custos'!J92=\"\",\"\",'Preços e Custos'!J92)","v":""},{"$nulls":3},{"$f":"IF('Preços e Custos'!L92=\"\",\"\",'Preços e Custos'!L92)","v":""}]
[{"$f":"IF('Preços e Custos'!A93=\"\",\"\",'Preços e Custos'!A93)","v":""},{"$f":"IF('Preços e Custos'!B93=\"\",\"\",'Preços e Custos'!B93)","v":""},{"$f":"IF('Preços e Custos'!C93=\"\",\"\",'Preços e Custos'!C93)","v":""},{"$f":"IF('Preços e Custos'!D93=\"\",\"\",'Preços e Custos'!D93)","v":""},{"$f":"IF('Preços e Custos'!E93=\"\",\"\",'Preços e Custos'!E93)","v":""},{"$f":"IF('Preços e Custos'!F93=\"\",\"\",'Preços e Custos'!F93)","v":""},null,null,{"$f":"IF('Preços e Custos'!I93=\"\",\"\",'Preços e Custos'!I93)","v":""},{"$f":"IF('Preços e Custos'!J93=\"\",\"\",'Preços e Custos'!J93)","v":""},{"$nulls":3},{"$f":"IF('Preços e Custos'!L93=\"\",\"\",'Preços e Custos'!L93)","v":""}]
[{"$f":"IF('Preços e Custos'!A94=\"\",\"\",'Preços e Custos'!A94)","v":""},{"$f":"IF('Preços e Custos'!B94=\"\",\"\",'Preços e Custos'!B94)","v":""},{"$f":"IF('Preços e Custos'!C94=\"\",\"\",'Preços e Custos'!C94)","v":""},{"$f":"IF('Preços e Custos'!D94=\"\",\"\",'Preços e Custos'!D94)","v":""},{"$f":"IF('Preços e Custos'!E94=\"\",\"\",'Preços e Custos'!E94)","v":""},{"$f":"IF('Preços e Custos'!F94=\"\",\"\",'Preços e Custos'!F94)","v":""},null,null,{"$f":"IF('Preços e Custos'!I94=\"\",\"\",'Preços e Custos'!I94)","v":""},{"$f":"IF('Preços e Custos'!J94=\"\",\"\",'Preços e Custos'!J94)","v":""},{"$nulls":3},{"$f":"IF('Preços e Custos'!L94=\"\",\"\",'Preços e Custos'!L94)","v":""}]
[{"$f":"IF('Preços e Custos'!A95=\"\",\"\",'Preços e Custos'!A95)","v":""},{"$f":"IF('Preços e Custos'!B95=\"\",\"\",'Preços e Custos'!B95)","v":""},{"$f":"IF('Preços e Custos'!C95=\"\",\"\",'Preços e Custos'!C95)","v":""},{"$f":"IF('Preços e Custos'!D95=\"\",\"\",'Preços e Custos'!D95)","v":""},{"$f":"IF('Preços e Custos'!E95=\"\",\"\",'Preços e Custos'!E95)","v":""},{"$f":"IF('Preços e Custos'!F95=\"\",\"\",'Preços e Custos'!F95)","v":""},null,null,{"$f":"IF('Preços e Custos'!I95=\"\",\"\",'Preços e Custos'!I95)","v":""},{"$f":"IF('Preços e Custos'!J95=\"\",\"\",'Preços e Custos'!J95)","v":""},{"$nulls":3},{"$f":"IF('Preços e Custos'!L95=\"\",\"\",'Preços e Custos'!L95)","v":""}]
[{"$f":"IF('Preços e Custos'!A96=\"\",\"\",'Preços e Custos'!A96)","v":""},{"$f":"IF('Preços e Custos'!B96=\"\",\"\",'Preços e Custos'!B96)","v":""},{"$f":"IF('Preços e Custos'!C96=\"\",\"\",'Preços e Custos'!C96)","v":""},{"$f":"IF('Preços e Custos'!D96=\"\",\"\",'Preços e Custos'!D96)","v":""},{"$f":"IF('Preços e Custos'!E96=\"\",\"\",'Preços e Custos'!E96)","v":""},{"$f":"IF('Preços e Custos'!F96=\"\",\"\",'Preços e Custos'!F96)","v":""},null,null,{"$f":"IF('Preços e Custos'!I96=\"\",\"\",'Preços e Custos'!I96)","v":""},{"$f":"IF('Preços e Custos'!J96=\"\",\"\",'Preços e Custos'!J96)","v":""},{"$nulls":3},{"$f":"IF('Preços e Custos'!L96=\"\",\"\",'Preços e Custos'!L96)","v":""}]
[{"$f":"IF('Preços e Custos'!A97=\"\",\"\",'Preços e Custos'!A97)","v":""},{"$f":"IF('Preços e Custos'!B97=\"\",\"\",'Preços e Custos'!B97)","v":""},{"$f":"IF('Preços e Custos'!C97=\"\",\"\",'Preços e Custos'!C97)","v":""},{"$f":"IF('Preços e Custos'!D97=\"\",\"\",'Preços e Custos'!D97)","v":""},{"$f":"IF('Preços e Custos'!E97=\"\",\"\",'Preços e Custos'!E97)","v":""},{"$f":"IF('Preços e Custos'!F97=\"\",\"\",'Preços e Custos'!F97)","v":""},null,null,{"$f":"IF('Preços e Custos'!I97=\"\",\"\",'Preços e Custos'!I97)","v":""},{"$f":"IF('Preços e Custos'!J97=\"\",\"\",'Preços e Custos'!J97)","v":""},{"$nulls":3},{"$f":"IF('Preços e Custos'!L97=\"\",\"\",'Preços e Custos'!L97)","v":""}]
[{"$f":"IF('Preços e Custos'!A98=\"\",\"\",'Preços e Custos'!A98)","v":""},{"$f":"IF('Preços e Custos'!B98=\"\",\"\",'Preços e Custos'!B98)","v":""},{"$f":"IF('Preços e Custos'!C98=\"\",\"\",'Preços e Custos'!C98)","v":""},{"$f":"IF('Preços e Custos'!D98=\"\",\"\",'Preços e Custos'!D98)","v":""},{"$f":"IF('Preços e Custos'!E98=\"\",\"\",'Preços e Custos'!E98)","v":""},{"$f":"IF('Preços e Custos'!F98=\"\",\"\",'Preços e Custos'!F98)","v":""},null,null,{"$f":"IF('Preços e Custos'!I98=\"\",\"\",'Preços e Custos'!I98)","v":""},{"$f":"IF('Preços e Custos'!J98=\"\",\"\",'Preços e Custos'!J98)","v":""},{"$nulls":3},{"$f":"IF('Preços e Custos'!L98=\"\",\"\",'Preços e Custos'!L98)","v":""}]
[{"$f":"IF('Preços e Custos'!A99=\"\",\"\",'Preços e Custos'!A99)","v":""},{"$f":"IF('Preços e Custos'!B99=\"\",\"\",'Preços e Custos'!B99)","v":""},{"$f":"IF('Preços e Custos'!C99=\"\",\"\",'Preços e Custos'!C99)","v":""},{"$f":"IF('Preços e Custos'!D99=\"\",\"\",'Preços e Custos'!D99)","v":""},{"$f":"IF('Preços e Custos'!E99=\"\",\"\",'Preços e Custos'!E99)","v":""},{"$f":"IF('Preços e Custos'!F99=\"\",\"\",'Preços e Custos'!F99)","v":""},null,null,{"$f":"IF('Preços e Custos'!I99=\"\",\"\",'Preços e Custos'!I99)","v":""},{"$f":"IF('Preços e Custos'!J99=\"\",\"\",'Preços e Custos'!J99)","v":""},{"$nulls":3},{"$f":"IF('Preços e Custos'!L99=\"\",\"\",'Preços e Custos'!L99)","v":""}]
[{"$f":"IF('Preços e Custos'!A100=\"\",\"\",'Preços e Custos'!A100)","v":""},{"$f":"IF('Preços e Custos'!B100=\"\",\"\",'Preços e Custos'!B100)","v":""},{"$f":"IF('Preços e Custos'!C100=\"\",\"\",'Preços e Custos'!C100)","v":""},{"$f":"IF('Preços e Custos'!D100=\"\",\"\",'Preços e Custos'!D100)","v":""},{"$f":"IF('Preços e Custos'!E100=\"\",\"\",'Preços e Custos'!E100)","v":""},{"$f":"IF('Preços e Custos'!F100=\"\",\"\",'Preços e Custos'!F100)","v":""},null,null,{"$f":"IF('Preços e Custos'!I100=\"\",\"\",'Preços e Custos'!I100)","v":""},{"$f":"IF('Preços e Custos'!J100=\"\",\"\",'Preços e Custos'!J100)","v":""},{"$nulls":3},{"$f":"IF('Preços e Custos'!L100=\"\",\"\",'Preços e Custos'!L100)","v":""},{"$f":"'Preços e Custos'!L100*0.75","v":{"v":0,"d":"0%"}},{"$f":"'Preços e Custos'!L100*1.25","v":{"v":0,"d":"0%"}}]
[]
[null,"FIM","FIM","FIM",null,"FIM","FIM","FIM","FIM","FIM","FIM","FIM","FIM","FIM","FIM","FIM","FIM"]

{"sheet":"Comparação","index":9,"n_rows":25,"n_cols":11,"rows_kept":25,"merged":[[3,1,3,3],[3,4,3,5],[5,1,5,2],[5,4,5,5],[13,3,14,3]]}
[null,"Comparação Situação Atual x Simulação"]
[]
[]
[null,"Despesa Total (mês)",null,null,{"$f":"'Despesas Totais'!F4","v":0},null,null,"Produto / Serviço","% Original","% Simulação","Diferença"]
[{"$nulls":7},{"$f":"IF('Preços e Custos'!B4=\"\",\"\",'Preços e Custos'!B4)","v":""},{"$f":"IF(H5=\"\",\"\",'Preços e Custos'!L4)","v":""},{"$f":"IF(H5=\"\",\"\",'Simulação de Foco'!L4)","v":""},{"$f":"IF(H5=\"\",\"\",J5/I5-1)","v":""}]
[null,"Situação Atual",null,null,"Simulação de Foco",null,null,{"$f":"IF('Preços e Custos'!B5=\"\",\"\",'Preços e Custos'!B5)","v":""},{"$f":"IF(H6=\"\",\"\",'Preços e Custos'!L5)","v":""},{"$f":"IF(H6=\"\",\"\",'Simulação de Foco'!L5)","v":""},{"$f":"IF(H6=\"\",\"\",J6/I6-1)","v":""}]
[{"$nulls":3},"Diferença",{"$nulls":3},{"$f":"IF('Preços e Custos'!B6=\"\",\"\",'Preços e Custos'!B6)","v":""},{"$f":"IF(H7=\"\",\"\",'Preços e Custos'!L6)","v":""},{"$f":"IF(H7=\"\",\"\",'Simulação de Foco'!L6)","v":""},""]
[null,"Média da Margem de Contribuição",{"$f":"'Preços e Custos'!J2","v":{"v":0,"d":"0.0%"}},{"$f":"F8/C8-1","v":{"$error":"#DIV/0!"}},"Média da Margem de Contribuição",{"$f":"'Simulação de Foco'!L2","v":{"$error":"#DIV/0!"}},null,{"$f":"IF('Preços e Custos'!B7=\"\",\"\",'Preços e Custos'!B7)","v":""},{"$f":"IF(H8=\"\",\"\",'Preços e Custos'!L7)","v":""},{"$f":"IF(H8=\"\",\"\",'Simulação de Foco'!L7)","v":""},""]
[{"$nulls":7},{"$f":"IF('Preços e Custos'!B8=\"\",\"\",'Preços e Custos'!B8)","v":""},{"$f":"IF(H9=\"\",\"\",'Preços e Custos'!L8)","v":""},{"$f":"IF(H9=\"\",\"\",'Simulação de Foco'!L8)","v":""},""]
[null,"Ponto de Equilíbrio Mês",{"$f":"E4/C8","v":{"$error":"#DIV/0!"}},{"$f":"F10/C10-1","v":{"$error":"#DIV/0!"}},"Ponto de Equilíbrio Mês",{"$f":"E4/F8","v":{"$error":"#DIV/0!"}},null,{"$f":"IF('Preços e Custos'!B9=\"\",\"\",'Preços e Custos'!B9)","v":""},{"$f":"IF(H10=\"\",\"\",'Preços e Custos'!L9)","v":""},{"$f":"IF(H10=\"\",\"\",'Simulação de Foco'!L9)","v":""},""]
[{"$nulls":7},{"$f":"IF('Preços e Custos'!B10=\"\",\"\",'Preços e Custos'!B10)","v":""},{"$f":"IF(H11=\"\",\"\",'Preços e Custos'!L10)","v":""},{"$f":"IF(H11=\"\",\"\",'Simulação de Foco'!L10)","v":""},""]
[null,"Preço Médio",{"$f":"'Cálculo PE'!E8","v":0},{"$f":"F12/C12-1","v":{"$error":"#DIV/0!"}},"Preço Médio",{"$f":"SUMPRODUCT('Simulação de Foco'!C4:C100,'Simulação de Foco'!L4:L100)/SUM('Simulação de Foco'!L4:L100)","v":{"$error":"#DIV/0!"}},null,{"$f":"IF('Preços e Custos'!B11=\"\",\"\",'Preços e Custos'!B11)","v":""},{"$f":"IF(H12=\"\",\"\",'Preços e Custos'!L11)","v":""},{"$f":"IF(H12=\"\",\"\",'Simulação de Foco'!L11)","v":""},""]
[{"$nulls":7},{"$f":"IF('Preços e Custos'!B12=\"\",\"\",'Preços e Custos'!B12)","v":""},{"$f":"IF(H13=\"\",\"\",'Preços e Custos'!L12)","v":""},{"$f":"IF(H13=\"\",\"\",'Simulação de Foco'!L12)","v":""},""]
[null,"Ponto de Equilíbrio em QUANTIDADE",{"$f":"C10/C12","v":{"$error":"#DIV/0!"}},{"$f":"F14/C14-1","v":{"$error":"#DIV/0!"}},"Ponto de Equilíbrio em QUANTIDADE",{"$f":"F10/F12","v":{"$error":"#DIV/0!"}},null,{"$f":"IF('Preços e Custos'!B13=\"\",\"\",'Preços e Custos'!B13)","v":""},{"$f":"IF(H14=\"\",\"\",'Preços e Custos'!L13)","v":""},{"$f":"IF(H14=\"\",\"\",'Simulação de Foco'!L13)","v":""},""]
[null,"Ponto de Equilíbrio em quantidade Anual",{"$f":"C10*12/C12","v":{"$error":"#DIV/0!"}},null,"Ponto de Equilíbrio em quantidade Anual",{"$f":"F10*12/F12","v":{"$error":"#DIV/0!"}},null,{"$f":"IF('Preços e Custos'!B14=\"\",\"\",'Preços e Custos'!B14)","v":""},{"$f":"IF(H15=\"\",\"\",'Preços e Custos'!L14)","v":""},{"$f":"IF(H15=\"\",\"\",'Simulação de Foco'!L14)","v":""},""]
[{"$nulls":7},{"$f":"IF('Preços e Custos'!B15=\"\",\"\",'Preços e Custos'!B15)","v":""},{"$f":"IF(H16=\"\",\"\",'Preços e Custos'!L15)","v":""},{"$f":"IF(H16=\"\",\"\",'Simulação de Foco'!L15)","v":""},""]
[{"$nulls":7},{"$f":"IF('Preços e Custos'!B16=\"\",\"\",'Preços e Custos'!B16)","v":""},{"$f":"IF(H17=\"\",\"\",'Preços e Custos'!L16)","v":""},{"$f":"IF(H17=\"\",\"\",'Simulação de Foco'!L16)","v":""},""]
[{"$nulls":7},{"$f":"IF('Preços e Custos'!B17=\"\",\"\",'Preços e Custos'!B17)","v":""},{"$f":"IF(H18=\"\",\"\",'Preços e Custos'!L17)","v":""},{"$f":"IF(H18=\"\",\"\",'Simulação de Foco'!L17)","v":""},""]
[{"$nulls":7},{"$f":"IF('Preços e Custos'!B18=\"\",\"\",'Preços e Custos'!B18)","v":""},{"$f":"IF(H19=\"\",\"\",'Preços e Custos'!L18)","v":""},{"$f":"IF(H19=\"\",\"\",'Simulação de Foco'!L18)","v":""},""]
[{"$nulls":7},{"$f":"IF('Preços e Custos'!B19=\"\",\"\",'Preços e Custos'!B19)","v":""},{"$f":"IF(H20=\"\",\"\",'Preços e Custos'!L19)","v":""},{"$f":"IF(H20=\"\",\"\",'Simulação de Foco'!L19)","v":""},""]
[{"$nulls":7},{"$f":"IF('Preços e Custos'!B20=\"\",\"\",'Preços e Custos'!B20)","v":""},{"$f":"IF(H21=\"\",\"\",'Preços e Custos'!L20)","v":""},{"$f":"IF(H21=\"\",\"\",'Simulação de Foco'!L20)","v":""},""]
[{"$nulls":7},{"$f":"IF('Preços e Custos'!B21=\"\",\"\",'Preços e Custos'!B21)","v":""},{"$f":"IF(H22=\"\",\"\",'Preços e Custos'!L21)","v":""},{"$f":"IF(H22=\"\",\"\",'Simulação de Foco'!L21)","v":""},""]
[{"$nulls":7},{"$f":"IF('Preços e Custos'!B22=\"\",\"\",'Preços e Custos'!B22)","v":""},{"$f":"IF(H23=\"\",\"\",'Preços e Custos'!L22)","v":""},{"$f":"IF(H23=\"\",\"\",'Simulação de Foco'!L22)","v":""},""]
[{"$nulls":7},{"$f":"IF('Preços e Custos'!B100=\"\",\"\",'Preços e Custos'!B100)","v":""},{"$f":"IF(H24=\"\",\"\",'Preços e Custos'!L100)","v":""},{"$f":"IF(H24=\"\",\"\",'Simulação de Foco'!L100)","v":""},""]
[{"$nulls":7},{"$f":"IF('Preços e Custos'!B101=\"\",\"\",'Preços e Custos'!B101)","v":""},{"$f":"IF(H25=\"\",\"\",'Preços e Custos'!L101)","v":""},{"$f":"IF(H25=\"\",\"\",'Simulação de Foco'!L101)","v":""},""]

{"sheet":"Próximo Passo","index":10,"n_rows":20,"n_cols":4,"rows_kept":20,"merged":[[18,3,18,10],[19,3,19,10]]}
{"$rows_empty":18}
[{"$nulls":3},"Clique aqui para saber a oferta exclusiva da"]
[{"$nulls":3},"planilha completa Turbinador de Lucros!"]

{"sheet":"Plan1","index":11,"n_rows":0,"n_cols":0,"rows_kept":0}

{"sheet":"Plan2","index":12,"n_rows":0,"n_cols":0,"rows_kept":0}

{"sheet":"Plan3","index":13,"n_rows":0,"n_cols":0,"rows_kept":0}